BEGIN:VCALENDAR
VERSION:2.0
PRODID:-//AllEvents.lt//NONSGML Event//EN
BEGIN:VEVENT
UID:100322@allevents.lt
DTSTAMP:20260421T125141Z
DTSTART:20260312T180000
DTEND:20260312T190000
SUMMARY:Igoris Jarmolenka ir Gražiausios Meilės Dainos | Gargždai - AllEvents.lt
DESCRIPTION:https://allevents.lt/koncertai/gargzdai/gargzdu-kulturos-centro-4-vandenu-renginiu-sale/100322-koncertas-igoris-jarmolenka-ir-graziausios-meiles-dainos-gargzdai-gargzdai-2026-bilietai\n\n\nIgoris Jarmolenka – vienas karščiausių Lietuvos estrados balsų, žinomas dėl savo ypatingos charizmos ir nepakartojamo balso tembro. Šį vakarą laukia įspūdinga muzikinė kelionė per gražiausias meilės dainas, kurios palies kiekvieną klausytoją.\n\n \n\nJo koncertai – tai daugiau nei muzika. Tai emocija, šiluma, nuoširdumas ir tikras ryšys su publika.\n\n \n\nIgoris sugeba sukurti ypatingą atmosferą, kurioje kiekviena nata tampa prisiminimu, o kiekvienas žodis - jausmu.\n\n \n\nAtvykite į šį koncertą ir pajuskite muzikos malonumą bei tikrą šventę širdžiai!\n\n \n\n \n\nDurys: 17:30\n\n \n\nPradžia: 18:00\n\n \n\nAmžiaus apribojimas: 0+\n\n \n\nDress code: gera nuotaika ir noras švęsti!\n
LOCATION:Gargždai, , Gargždų kultūros centro „4 VANDENŲ“ renginių salė
BEGIN:VALARM
TRIGGER:-P2D
ACTION:DISPLAY
DESCRIPTION:Go to Igoris Jarmolenka ir Gražiausios Meilės Dainos | Gargždai!
END:VALARM
END:VEVENT
END:VCALENDAR
