BEGIN:VCALENDAR
VERSION:2.0
PRODID:-//AllEvents.lt//NONSGML Event//EN
BEGIN:VEVENT
UID:101654@allevents.lt
DTSTAMP:20260421T125207Z
DTSTART:20260325T180000
DTEND:20260325T190000
SUMMARY:Giulija ir Monika su koncertine programa "Kai tu šalia" - AllEvents.lt
DESCRIPTION:https://allevents.lt/koncertai/gargzdai/gargzdu-kulturos-centro-4-vandenu-renginiu-sale/101654-koncertas-giulija-ir-monika-su-koncertine-programa-kai-tu-salia-gargzdai-2026-bilietai\n\n\n\n \n\nAuksinis duetas sugrįžta - koncertinėje programoje ,,Kai tu šalia''\n\n \n\nSavo nuostabias dainas  gerą nuotaiką, ir puikias akimirkas dovanos šlagerių karalienė puikaus balso savininkė dainininkė Giulija.\n\n \n\nGiulija, atliks naujas dainas ir visiems gerai žinomus šlagerius ,,Na tai kas'' ,,Tik pas tave'' ,,O tu dainuok'' ,, Angelas baltas'' ir daug kitų širdį užburiančių dainų.\n\n \n\nGiulijos dukra operos solistė turinti vieną gražiausių pasaulio balsų Monika Falcon, scenoje nuo vaikystės o šiuo metu skina kelius didžiausiose  operos  scenose visame pasaulyje, dainuodama vienoje scenoje su žymiausiais pasaulio tenorais.\n\n \n\nMonika pasižymi itin stipriu savitu ir galingu balsu, tai turėsite progos išgirsti ir jūs.\n\n \n\nGiulija ir Monika, laukia jūsų ateikite pabūti su daina ir gera nuotaika.\n\n \n\n \n\n\nBilieto kaina 18 eurų\n\n \n\nKoncerto dieną 22 eurai\n
LOCATION:Gargždai, , Gargždų kultūros centro „4 VANDENŲ“ renginių salė
BEGIN:VALARM
TRIGGER:-P2D
ACTION:DISPLAY
DESCRIPTION:Go to Giulija ir Monika su koncertine programa "Kai tu šalia"!
END:VALARM
END:VEVENT
END:VCALENDAR
