BEGIN:VCALENDAR
VERSION:2.0
PRODID:-//AllEvents.lt//NONSGML Event//EN
BEGIN:VEVENT
UID:101669@allevents.lt
DTSTAMP:20260421T125139Z
DTSTART:20260329T140000
DTEND:20260329T150000
SUMMARY:Klaipėdos jaunimo teatras | vaikiškas spektaklis "Voro vestuvės" - AllEvents.lt
DESCRIPTION:https://allevents.lt/teatras/gargzdai/gargzdu-kulturos-centro-4-vandenu-renginiu-sale/101669-teatras-klaipedos-jaunimo-teatras-vaikiskas-spektaklis-voro-vestuves-gargzdai-2026-bilietai\n\n\nPagal Justino Marcinkevičiau poemą „Voro vestuvės“ Klaipėdos jaunimo teatro sukurtas muzikinis spektaklis vaikams yra šmaikšti ir pamokanti istorija bei muzikali alegorija, išryškinanti mūsų pačių ydas. Žiūrovai spektaklio metu susipažins su įspūdingu ir grėsmingu voru Tabalai, su jo pakalikais vabalais ir su saulę nuo voro ginančiais paukšteliais. Ir ne tik susipažins – visa publika, tiek vaikai, tiek jų tėveliai galės ir patys dalyvauti grumtynėse ir kovoje dėl saulės.\n\nSpektaklis „Voro vestuvės“ išsiskiria netikėtais scenografijos sprendimais. Aktoriai kostiumus ir rekvizitą kuria iš paprastų, bet tarsi iš naujo atrastų daiktų, pavyzdžiui, darbinės pirštinės tampa paukščių plunksnomis. Toks kūrėjų pasirinkimas neatsitiktinis. Klaipėdos jaunimo teatro aktoriai siekia, kad vaikai teatre ne tik puikiai praleistų laiką, bet ir lavintų savo vaizduotę, fantaziją ir atsleistų savo neribotas kūrybos galimybes.\n\nRežisierius: Valentinas Masalskis\n\nScenografė ir kostiumų dailininkė: Renata Valčik\n\nMuzika: Klaipėdos jaunimo teatras\n\nKompozitorė: Nijolė Sinkevičiūtė\n\nŠviesų dailininkas: Julius Kuršys\n
LOCATION:Gargždai, , Gargždų kultūros centro „4 VANDENŲ“ renginių salė
BEGIN:VALARM
TRIGGER:-P2D
ACTION:DISPLAY
DESCRIPTION:Go to Klaipėdos jaunimo teatras | vaikiškas spektaklis "Voro vestuvės"!
END:VALARM
END:VEVENT
END:VCALENDAR
