BEGIN:VCALENDAR
VERSION:2.0
PRODID:-//AllEvents.lt//NONSGML Event//EN
BEGIN:VEVENT
UID:101672@allevents.lt
DTSTAMP:20260421T111638Z
DTSTART:20260109T160000
DTEND:20260311T230000
SUMMARY:VISO FESTIVALIO BILIETAS | AIDAS 2026 - AllEvents.lt
DESCRIPTION:https://allevents.lt/koncertai/vilnius/dumu-fabrikas/101672-koncertas-viso-festivalio-bilietas-aidas-2026-vilnius-2026-bilietai\nATNAUJINTA 2025.01.21 Informuojame, kad festivalis AIDAS 2026, kuris turėjo įvykti Medeina - Gastrobare yra perkeliamas į DŪMŲ FABRIKĄ.Naujos vietos adresas: Dūmų gatvė 5, Vilnius Seni bilietai galios. Jų keisti nereikia. Jei netinka nauja renginio vieta pinigus už įsigytus bilietus galite susigrąžinti užpildžius grąžinimo formą: https://www.bilietai.lt/lit/ticket-refund-application Formos priimamos iki Vasario 4 dienos. "Mes kalbėsime kol gyvi būsime" -  Atsižvelgdami į begalę valstybinių minėjimų ir šiemet minimas 35-ąsias sausio 13-osios įvykių metines savo renginį nusprendėme rengti kitu metu. 2026 m. sausio 9 d. kviesime atminti sausio 13-osios įvykių aukas ir susiburti Karoliniškėse, netoli Televizijos bokšto, patį pirmąjį 1991 m. budėjimo vakarą. Nuo sausio 9-osios žmonės iš visos Lietuvos pradėjo rinktis prie Seimo, Televizijos bokšto ir kitų svarbių pastatų. 2026-aisiais kviečiame šį vakarą pradėti rinktis ir pakurstyti Laisvės ugnį širdyse kartu su mumis!  Programa:14:00 Vilniečius ir miesto svečius kviečiame į Karoliniškes, į Gastrobaro "Medeina" kiemelį - sušilti prie laužų, pabendrauti, papietauti.16:00 Dokumentinio filmo “Sausio 13-oji” peržiūra, pokalbis su įvykių dalyviais.18:00 Atminimo koncertas.Daugiau informacijos apie renginį ir žinoma APIE GRUPES SKELBSIME JAU NETRUKUS!AIDAS V - 2026 m. vasario 16 d. - AIDAS V - penktus metus Laisvę švęskime kartu! Šiemet festivalyje kaip niekada gausu veiklų - tradicija tapusi ekskursija Vilniaus laisvės kovų keliais, diskusija "Valstybės ašis: visuomenė, valdžia ir kariuomenė" su žymiais Lietuvos istorikais, visuomenininkais, karinių struktūrų atstovais ir politikais, tatuiruočių meistrų vizitas, paroda ir žinoma - DIDYSIS KONCERTAS! Šiemet, kaip niekada trankus ir smagus, o taip pat ir pirmas toks - su užsienio svečių apsilankymu! Paprastai skambančią Lietuvišką, patriotinę, muziką papildys brolių latvių pasirodymas - apie tai ir dar daugiau naujienų iš muzikinės programos - JAU NETRUKUS! Programa:11:00 Vilniaus senamiestyje leisimės į ekskursiją po Laisvės kovas menančius sostinės paminklus16:00 Duris atvers festivalio erdvės - lankytojų lauks istorinė-meninė paroda17:00 Diskusija "Valstybės ašis: visuomenė, valdžia ir kariuomenė"18:00 DIDYSIS KONCERTAS"Šokame Laisvę!" - koks festivalis be gero pratęsimo! 2026 m. kovo 11 d. kviečiame ne tik švęsti Nepriklausomybės atkūrimą, bet ir linksmintis su AIDAS V - festivalį užbaigsime su trenksmu! Finalinis festivalio renginys - koncertas “Šokame Laisvę” pasitiks dalyvius trankia muzika, laisvės kovas menančiomis dainomis ir siautulinga energija! Laisvę šokiui, laisvę žanrams ir muzikiniam šėlsmui - ne visi minėjimai turi būti perdėtai rimti ;) O kas gros? O kada šoksim? Visa tai ir dar daugiau - JAU NETRUKUS!Bilietas galioja į VISUS AIDAS 2025 renginius!Perkant 10 ir daugiau bilietų galite kreiptis: vipklientai@bilietai.ltDurys atidaromos: 11:00Renginio trukmė: Pertraukos: nėraRenginio kalba: lietuviųVaikai įleidžiami nemokamai: iki 7 metų amžiaus imtinai (renginio vietoje pateikti amžių įrodantį dokumentą)Amžiaus cenzas: nėraNuolaidos: studentams, senjorams, Lietuvos Kariuomenės kariams, KASP kariams
LOCATION:Vilnius, Dūmų g. 5, Dūmų fabrikas
BEGIN:VALARM
TRIGGER:-P2D
ACTION:DISPLAY
DESCRIPTION:Go to VISO FESTIVALIO BILIETAS | AIDAS 2026!
END:VALARM
END:VEVENT
END:VCALENDAR
