BEGIN:VCALENDAR
VERSION:2.0
PRODID:-//AllEvents.lt//NONSGML Event//EN
BEGIN:VEVENT
UID:101682@allevents.lt
DTSTAMP:20260421T125140Z
DTSTART:20260311T200000
DTEND:20260311T230000
SUMMARY:(PERKELTAS Į KITĄ VIETĄ) Šokame Laisvę | AIDAS 2026 - AllEvents.lt
DESCRIPTION:https://allevents.lt/koncertai/vilnius/dumu-fabrikas/101682-koncertas-perkeltas-i-kita-vieta-sokame-laisve-aidas-2026-vilnius-2026-bilietai\nATNAUJINTA 2025.01.21 Informuojame, kad renginys Šokame Laisvę | AIDAS 2026, kuris turėjo įvykti Vasario 16 dieną Medeina - Gastrobaras yra perkeliamas į DŪMŲ FABRIKĄ.Naujos vietos adresas: Dūmų gatvė 5, Vilnius Seni bilietai galios. Jų keisti nereikia. Jei netinka nauja renginio vieta pinigus už įsigytus bilietus galite susigrąžinti užpildžius grąžinimo formą: https://www.bilietai.lt/lit/ticket-refund-application Formos priimamos iki Vasario 4 dienos."Šokame Laisvę!" - koks festivalis be gero pratęsimo! 2026 m. kovo 11 d. kviečiame ne tik švęsti Nepriklausomybės atkūrimą, bet ir linksmintis su AIDAS V - festivalį užbaigsime su trenksmu! Finalinis festivalio renginys - koncertas “Šokame Laisvę” pasitiks dalyvius trankia muzika, laisvės kovas menančiomis dainomis ir siautulinga energija! Laisvę šokiui, laisvę žanrams ir muzikiniam šėlsmui - ne visi minėjimai turi būti perdėtai rimti ;) O kas gros? O kada šoksim? Visa tai ir dar daugiau - JAU NETRUKUS! Perkant 10 ir daugiau bilietų galite kreiptis: vipklientai@bilietai.lt Durys atidaromos: 18:00Renginio trukmė: 3:00Pertraukos: nėraRenginio kalba: lietuviųVaikai įleidžiami nemokamai: iki 7 metų amžiaus imtinai (renginio vietoje pateikti amžių įrodantį dokumentą)Amžiaus cenzas: nėraNuolaidos: studentams, senjorams, Lietuvos Kariuomenės kariams, KASP kariams 
LOCATION:Vilnius, Dūmų g. 5, Dūmų fabrikas
BEGIN:VALARM
TRIGGER:-P2D
ACTION:DISPLAY
DESCRIPTION:Go to (PERKELTAS Į KITĄ VIETĄ) Šokame Laisvę | AIDAS 2026!
END:VALARM
END:VEVENT
END:VCALENDAR
