BEGIN:VCALENDAR
VERSION:2.0
PRODID:-//AllEvents.lt//NONSGML Event//EN
BEGIN:VEVENT
UID:103423@allevents.lt
DTSTAMP:20260421T125206Z
DTSTART:20260313T200000
DTEND:20260313T210000
SUMMARY:Žilvinas Kerbelis | STAND UP | KRINDŽATRONAS [KLAIPĖDA] - AllEvents.lt
DESCRIPTION:https://allevents.lt/teatras/klaipeda/baras-ras-las/103423-teatras-zilvinas-kerbelis-stand-up-krindzatronas-klaipeda-klaipeda-2026-bilietai\n 2026 metais gražus ir labai plonas mokslininkas Žilvinas Kerbelis savo laboratorijoje (Akwardiškių miestelyje) sukūrė robotą Krindžatroną, kuris laimėjo mainų programą ir iškeliavo 1000 metų į ateitį. Išskerdęs visus savo nenormaliai juokingais ir nepatogiais bajeriais nusprendė grįžti į praeitį, nes pasiilgo tėvynės ir šaltibarščių su bulvytėmis fri (banguotomis).Ko tikėtis?Robotinių one-liner’ių lėtesnių nei tavo internetas 2006-aisBajerių apie žmonių kasdienybę - nuo pažinčių programėlių iki rasizmoRimto veido slepiančio dar rimtesnį juoką ir miklių rankų, kurios ištrauks ne vieną juokingą daiktąVietomis ant tiek sauso humoro, kad net printeris pavydėtųVieta: Baras Rasãlas, Tiltų g. 5, KlaipėdaDurys: 19:00Pradžia: 20:00N-16Bilietai grąžinami neįvykus renginiui, bilieto kaina neturi įtakos sėdimoms vietoms, tiesiog bandau daugiau uždirbti per bajerį. 
LOCATION:Klaipėda, Tiltų gatvė, Baras Rasãlas
BEGIN:VALARM
TRIGGER:-P2D
ACTION:DISPLAY
DESCRIPTION:Go to Žilvinas Kerbelis | STAND UP | KRINDŽATRONAS [KLAIPĖDA]!
END:VALARM
END:VEVENT
END:VCALENDAR
