BEGIN:VCALENDAR
VERSION:2.0
PRODID:-//AllEvents.lt//NONSGML Event//EN
BEGIN:VEVENT
UID:104899@allevents.lt
DTSTAMP:20260421T125207Z
DTSTART:20260329T140000
DTEND:20260329T150000
SUMMARY:PASIUTPOLKĖ SU AMBROZIJA - AllEvents.lt
DESCRIPTION:https://allevents.lt/koncertai/kedainiai/kedainiu-kulturos-centras/104899-koncertas-pasiutpolke-su-ambrozija-kedainiai-2026-bilietai\n\n\nPASIUTPOLKĖ SU AMBROZIJA\n\nnaujausias grupės „Ambrozija“ projektas\n\nPasaulyje siautėja  politinė pasiutpolkė.  Lietuvoje savo pasiutpolkę šoka kainos. Už lango pasiutpolkę siūlo nenuspėjami lietuviški orai, o į Kėdainius atvyksta tikra muzikos ir humoro pasiutpolkė. Nuotaikingiausios  Lietuvos kapelos – SADŪNAI ir NEŠPĖTNI BERNAI, maestro VYTAUTAS ŠIŠKAUSKAS ir tikri humoro meistrai Giedrius Viduolis - TATA ir Jonas Buziliauskas - BEAUSIS jums siūlo ekstravagantišką,  nepakartojamą muzikos ir humoro šou -  PASIUTPOLKĖ SU AMBROZIJA. Kartu su muzikantais dainuosite jūsų pamėgtas dainas, pritarsite patiems populiariausiems Vytauto Šiškausko šlageriams, kvatositės iki ašarų ir, žinoma, kad jūsų laukia begalės siurprizų, netikėtumų ir dovanų, nes PASIUTPOLKĖ SU AMBROZIJA- tai tikrai geras pasirinkimas. \n\nKoncertas vyks kovo 29 d., 14 val., Kėdainių kultūros centre. Bilietus platina kultūros centro kasa ir ticketmarket.lt.\n\n \n
LOCATION:Kėdainiai, J. Basanavičiaus g. 24, Kėdainių kultūros centras
BEGIN:VALARM
TRIGGER:-P2D
ACTION:DISPLAY
DESCRIPTION:Go to PASIUTPOLKĖ SU AMBROZIJA!
END:VALARM
END:VEVENT
END:VCALENDAR
