BEGIN:VCALENDAR
VERSION:2.0
PRODID:-//AllEvents.lt//NONSGML Event//EN
BEGIN:VEVENT
UID:105178@allevents.lt
DTSTAMP:20260421T125140Z
DTSTART:20260312T193000
DTEND:20260312T203000
SUMMARY:PATOGIAI su Vytautu Mikaičiu - AllEvents.lt
DESCRIPTION:https://allevents.lt/teatras/vilnius/k2-comedy-club/105178-teatras-patogiai-su-vytautu-mikaiciu-vilnius-2026-bilietai\n PATOGIAI SU VYTAUTU MIKAIČIUŽvakės, židinys, apsikabinimai, vieno kąsnio sumuštinukai, auksas - šių prabangos prekių šiame renginyje nepamatysite. Bet pamatysite svečią, kurį kalbins du įtartinos kilmės komikai. Žilvinas Kerbelis ir Simanas Žurauskas - šių dviejų vedėjų humoro skirtumai ir bendradarbiavimas interviu metu siužetą pakreips nejaukiais ir nenuspėjamais vingiais. Gal ir viską žinote apie populiarius žmones, bet ar žinote, ar jiems bus patogu mūsų kėdėje? Svečio kėdėje atsidurs Vytautas Mikaitis - internete apie šį žmogų sklando daug legendų ir pasakų, žmogus turintis didelę charizmą ir kelionių agentūrą Pravalturas, kuri siūlo ilgiausius kelionių maršrutus, baisiausius kraštovaizdžius, nuolatinį diskomfortą.Renginys filmuojamas, bet gyvai stebėti yra 6 milijardus kartų smagiau (įrodyta mokslininkų (neįrodyta)).Pirmieji bilietai pigiausi, antrieji pigesni, tretieji pigūs.VIETA: K2 Comedy Club, A. Goštauto g. 25, VilniusDURYS: 18:30PRADŽIA: 19:30N16 Bilietai grąžinami neįvykus renginiui. 
LOCATION:Vilnius, A. Goštauto g. 25, K2 Comedy Club
BEGIN:VALARM
TRIGGER:-P2D
ACTION:DISPLAY
DESCRIPTION:Go to PATOGIAI su Vytautu Mikaičiu!
END:VALARM
END:VEVENT
END:VCALENDAR
