BEGIN:VCALENDAR
VERSION:2.0
PRODID:-//AllEvents.lt//NONSGML Event//EN
BEGIN:VEVENT
UID:105490@allevents.lt
DTSTAMP:20260421T111707Z
DTSTART:20260313T200000
DTEND:20260313T210000
SUMMARY:FORMA #1 — Andrius Laucevičius - AllEvents.lt
DESCRIPTION:https://allevents.lt/koncertai/vilnius/mama-studios/105490-koncertas-forma-1-andrius-laucevicius-vilnius-2026-bilietai\n FORMA #1 — gyva elektronikaAndrius LaucevičiusFORMA — tai gyvos elektronikos formatas, kuriame muzika atliekama ir jos eiga formuojama realiu laiku, naudojant iš anksto paruoštą garso medžiagą.Tai nėra DJ vakaras ir ne koncertas įprasta prasme.Tai vientisas procesas, kuriame struktūra, dinamika ir perėjimai kuriami vietoje.Vieta: Mama Studios, A. Mickevičiaus g. 29, VilniusData: kovo 13 d.Laikas: 20:00–22:15, durys 19:00Bilietai:Early — 8 €Regular — 12 €Prie durų (jei liks) — 15 €Renginio dydis sąmoningai ribotas. 
LOCATION:Vilnius, A. Mickevičiaus g. 29, MAMA Studios
BEGIN:VALARM
TRIGGER:-P2D
ACTION:DISPLAY
DESCRIPTION:Go to FORMA #1 — Andrius Laucevičius!
END:VALARM
END:VEVENT
END:VCALENDAR
