BEGIN:VCALENDAR
VERSION:2.0
PRODID:-//AllEvents.lt//NONSGML Event//EN
BEGIN:VEVENT
UID:105491@allevents.lt
DTSTAMP:20260419T160235Z
DTSTART:20260314T200000
DTEND:20260314T210000
SUMMARY:dadcap :: 03,14 :: gallery onstage - AllEvents.lt
DESCRIPTION:https://allevents.lt/koncertai/vilnius/gallery-1986/105491-koncertas-dadcap-03-14-gallery-onstage-vilnius-2026-bilietai\n }} tiems, kas nežino ::: dadcap –––– pirmoji Lietuvoje gaming rock grupė, išleidusi pirmąjį Lietuvoje gaming rock albumą ^^ }} tiems, kas žino ::: dadcap kovo 14 švęs ddcp2 albumo pirmąsias metines ir Jorio 18 gimtadienį ^^ }} tai bus pirmas [beveik] solinis dadcap koncertas tokioje didelėje erdvėje –––– grupė tikisi, kad ateis ne tik esami, bet ir būsimi fanai, nes vietos užteks visiems ^^ [beveik] ––––– nes ddcp pasitiks dar ir apšildanti grupė [paslaptis] ^^}} ^^^^^^ susitinkam kovo 14 ^^^^^^^///////////////////////////////}} 19;00 :: DURYS}}  20;00 :: SUPPORT TBA}} 21;00 :: DADCAP///////////////////////////////^ N14^ bilietai ir prie durų ^ renginys bus filmuojamas/fotografuojamas 
LOCATION:Vilnius, Kauno g. 32, Gallery 1986
BEGIN:VALARM
TRIGGER:-P2D
ACTION:DISPLAY
DESCRIPTION:Go to dadcap :: 03,14 :: gallery onstage!
END:VALARM
END:VEVENT
END:VCALENDAR
