BEGIN:VCALENDAR
VERSION:2.0
PRODID:-//AllEvents.lt//NONSGML Event//EN
BEGIN:VEVENT
UID:106443@allevents.lt
DTSTAMP:20260421T111707Z
DTSTART:20260410T180000
DTEND:20260410T190000
SUMMARY:Grupė Lietuvaičiai | Biržai - AllEvents.lt
DESCRIPTION:https://allevents.lt/koncertai/birzai/birzu-kulturos-centras/106443-koncertas-grupe-lietuvaiciai-birzai-birzai-2026-bilietai\n\n\n\nCharizmatiškoji ir populiarioji vaikinų grupė „Lietuvaičiai“ kviečia į išskirtinį koncertą Biržų kultūros centre!\n\n \n\n\nAtvira širdimi ir didele pozityvumo bei optimizmo doze vaikinai atliks visas populiariausias savo dainas kaip – „Lai skamba dainos Lietuvoj“ , „Tinka patinka“ , „Baliavosim“ , „Jazminų žiedai“ ,  „Batareikė“ , „Sukasi malūnai“, „Pirmutinė meilė“ , „Išskirtinė“ ir daugelį kitų!\n
LOCATION:Biržai, , Biržų kultūros centras
BEGIN:VALARM
TRIGGER:-P2D
ACTION:DISPLAY
DESCRIPTION:Go to Grupė Lietuvaičiai | Biržai!
END:VALARM
END:VEVENT
END:VCALENDAR
