BEGIN:VCALENDAR
VERSION:2.0
PRODID:-//AllEvents.lt//NONSGML Event//EN
BEGIN:VEVENT
UID:106621@allevents.lt
DTSTAMP:20260421T125206Z
DTSTART:20260312T190000
DTEND:20260312T200000
SUMMARY:Kretingos Kretinga-Rivile - Jurbarko Jurbarkas-Karys-Manvesta - AllEvents.lt
DESCRIPTION:https://allevents.lt/sportas/kretinga/kretingos-sporto-centras/106621-sportas-kretingos-kretinga-rivile-jurbarko-jurbarkas-karys-manvesta-kretinga-2026-bilietai\n\n
LOCATION:Kretinga, , Kretingos sporto centras
BEGIN:VALARM
TRIGGER:-P2D
ACTION:DISPLAY
DESCRIPTION:Go to Kretingos Kretinga-Rivile - Jurbarko Jurbarkas-Karys-Manvesta!
END:VALARM
END:VEVENT
END:VCALENDAR
