BEGIN:VCALENDAR
VERSION:2.0
PRODID:-//AllEvents.lt//NONSGML Event//EN
BEGIN:VEVENT
UID:106712@allevents.lt
DTSTAMP:20260421T113049Z
DTSTART:20260326T180000
DTEND:20260326T190000
SUMMARY:LAURA REMEIKIENĖ ir ROLANDAS JANUŠAS - AllEvents.lt
DESCRIPTION:https://allevents.lt/koncertai/birzai/birzu-kulturos-centras/106712-koncertas-laura-remeikiene-ir-rolandas-janusas-birzai-2026-bilietai\n\n\nLAURA REMEIKIENĖ ir ROLANDAS JANUŠAS\n\n“Švęsk gyvenimą”\n\nVitolis Žukas (klavišiniai)\n\nVytautas Mundinas (mušamieji)\n\nMuzikos ir tekstų autorė Šiaulietė  Laura Remeikienė  ir legendinės grupės Vairas vadovas ir vokalistas Rolandas Janušas kviečia klausytojus į romantišką dainų vakarą - "Švęsk gyvenimą". Gerai žinomos dainos kvies į ypatingą muzikinę kelionę.\n\n \n
LOCATION:Biržai, , Biržų kultūros centras
BEGIN:VALARM
TRIGGER:-P2D
ACTION:DISPLAY
DESCRIPTION:Go to LAURA REMEIKIENĖ ir ROLANDAS JANUŠAS!
END:VALARM
END:VEVENT
END:VCALENDAR
