BEGIN:VCALENDAR
VERSION:2.0
PRODID:-//AllEvents.lt//NONSGML Event//EN
BEGIN:VEVENT
UID:108397@allevents.lt
DTSTAMP:20260421T125140Z
DTSTART:20260321T160000
DTEND:20260321T170000
SUMMARY:Pasvalio kultūros centro Gintaro Kutkausko teatro spektaklis MOTINOS PIENAS - AllEvents.lt
DESCRIPTION:https://allevents.lt/teatras/kretinga/kretingos-kulturos-centras/108397-teatras-pasvalio-kulturos-centro-gintaro-kutkausko-teatro-spektaklis-motinos-pienas-kretinga-2026-bilietai\n\n\nTeatrų festivalis “MŪZŲ SALĖ 2026”\n\nIlgus metus Kretingoje vykusią komedijų šventę “Vėinė joukā” pernai pakeitė festivalis “Mūzų salė”. Jos vartus atvėrusi tragedijos globėja Melpomenė šiais metais raktus atidavė į paties muzikos ir poezijos globėjo Apolono rankas.\n\nO tai reiškia, kad renginys dar labiau pakelia kokybės kartelę – nes ne kiekvienas gi gali prasprūsti pro įnoringo ir reiklaus graikų dievo atrankos sietą.\n\nKaip ir praėjusiais metais kretingiškiai turės galimybę pamatyti geriausių Lietuvos mėgėjų teatrų pasirodymus – įvairių metų šventės apžiūros “Atspindžiai” laureatus, spektaklius, pelniusius nominacijas ir apdovanotus konkursuose, tiek Lietuvoje, tiek užsienyje, atstovavusius mūsų šalį prestižiniuose pasauliniuose festivaliuose.\n\nTiesiog jau pasižymėkite dienas savo kalendoriuose!\n\nTeatrų festivalio MŪZŲ SALĖ 2026\n\nPrograma\n\nKovo 21 d.\n\n16.00 val.\n\nPasvalio kultūros centro Gintaro Kutkausko teatro spektaklis MOTINOS PIENAS\n\npagal Noros Ikstenos romaną\n\nrežisierė Ramunė Uždavinienė.\n \n
LOCATION:Kretinga, J.Pabrėžos g. 1, Kretingos kultūros centras
BEGIN:VALARM
TRIGGER:-P2D
ACTION:DISPLAY
DESCRIPTION:Go to Pasvalio kultūros centro Gintaro Kutkausko teatro spektaklis MOTINOS PIENAS!
END:VALARM
END:VEVENT
END:VCALENDAR
