BEGIN:VCALENDAR
VERSION:2.0
PRODID:-//AllEvents.lt//NONSGML Event//EN
BEGIN:VEVENT
UID:108399@allevents.lt
DTSTAMP:20260421T125139Z
DTSTART:20260321T180000
DTEND:20260321T190000
SUMMARY:Kaišiadorių kultūros centro mėgėjų teatro spektaklis MIESČIONIŠKOS VESTUVĖS - AllEvents.lt
DESCRIPTION:https://allevents.lt/teatras/kretinga/kretingos-kulturos-centras/108399-teatras-kaisiadoriu-kulturos-centro-megeju-teatro-spektaklis-miescioniskos-vestuves-kretinga-2026-bilietai\n\n\nTeatrų festivalis “MŪZŲ SALĖ 2026”\n\nIlgus metus Kretingoje vykusią komedijų šventę “Vėinė joukā” pernai pakeitė festivalis “Mūzų salė”. Jos vartus atvėrusi tragedijos globėja Melpomenė šiais metais raktus atidavė į paties muzikos ir poezijos globėjo Apolono rankas.\n\nO tai reiškia, kad renginys dar labiau pakelia kokybės kartelę – nes ne kiekvienas gi gali prasprūsti pro įnoringo ir reiklaus graikų dievo atrankos sietą.\n\nKaip ir praėjusiais metais kretingiškiai turės galimybę pamatyti geriausių Lietuvos mėgėjų teatrų pasirodymus – įvairių metų šventės apžiūros “Atspindžiai” laureatus, spektaklius, pelniusius nominacijas ir apdovanotus konkursuose, tiek Lietuvoje, tiek užsienyje, atstovavusius mūsų šalį prestižiniuose pasauliniuose festivaliuose.\n\nTiesiog jau pasižymėkite dienas savo kalendoriuose!\n\nTeatrų festivalio MŪZŲ SALĖ 2026\n\nPrograma\n\n18.00 val.\n\nKaišiadorių kultūros centro mėgėjų teatro spektaklis, Bertoldo Brechto MIESČIONIŠKOS VESTUVĖS\n\nRežisierius Jonas Andriulevičius\n \n
LOCATION:Kretinga, J.Pabrėžos g. 1, Kretingos kultūros centras
BEGIN:VALARM
TRIGGER:-P2D
ACTION:DISPLAY
DESCRIPTION:Go to Kaišiadorių kultūros centro mėgėjų teatro spektaklis MIESČIONIŠKOS VESTUVĖS!
END:VALARM
END:VEVENT
END:VCALENDAR
