BEGIN:VCALENDAR
VERSION:2.0
PRODID:-//AllEvents.lt//NONSGML Event//EN
BEGIN:VEVENT
UID:108401@allevents.lt
DTSTAMP:20260421T125207Z
DTSTART:20260416T183000
DTEND:20260416T193000
SUMMARY:PREMJERA. Kretingos rajono kultūros centro Egidijaus Radžiaus teatro spektaklis MARIANOS “KAPRIZAI” - AllEvents.lt
DESCRIPTION:https://allevents.lt/teatras/kretinga/kretingos-kulturos-centras/108401-teatras-premjera-kretingos-rajono-kulturos-centro-egidijaus-radziaus-teatro-spektaklis-marianos-kaprizai-kretinga-2026-bilietai\n\n\nTeatrų festivalis “MŪZŲ SALĖ 2026”\n\nIlgus metus Kretingoje vykusią komedijų šventę “Vėinė joukā” pernai pakeitė festivalis “Mūzų salė”. Jos vartus atvėrusi tragedijos globėja Melpomenė šiais metais raktus atidavė į paties muzikos ir poezijos globėjo Apolono rankas.\n\nO tai reiškia, kad renginys dar labiau pakelia kokybės kartelę – nes ne kiekvienas gi gali prasprūsti pro įnoringo ir reiklaus graikų dievo atrankos sietą.\n\nKaip ir praėjusiais metais kretingiškiai turės galimybę pamatyti geriausių Lietuvos mėgėjų teatrų pasirodymus – įvairių metų šventės apžiūros “Atspindžiai” laureatus, spektaklius, pelniusius nominacijas ir apdovanotus konkursuose, tiek Lietuvoje, tiek užsienyje, atstovavusius mūsų šalį prestižiniuose pasauliniuose festivaliuose.\n\nTiesiog jau pasižymėkite dienas savo kalendoriuose!\n\nTeatrų festivalio MŪZŲ SALĖ 2026\n\nPrograma\n\nBalandžio 16 d. 18.30\n\nNumatoma PREMJERA\n\nKretingos rajono kultūros centro Egidijaus Radžiaus teatro spektaklis MARIANOS “KAPRIZAI”\n\npagal Alfred’o de Musset pjesę\n\nRežisierius Nerijus Gedminas\n
LOCATION:Kretinga, J.Pabrėžos g. 1, Kretingos kultūros centras
BEGIN:VALARM
TRIGGER:-P2D
ACTION:DISPLAY
DESCRIPTION:Go to PREMJERA. Kretingos rajono kultūros centro Egidijaus Radžiaus teatro spektaklis MARIANOS “KAPRIZAI”!
END:VALARM
END:VEVENT
END:VCALENDAR
