BEGIN:VCALENDAR
VERSION:2.0
PRODID:-//AllEvents.lt//NONSGML Event//EN
BEGIN:VEVENT
UID:109010@allevents.lt
DTSTAMP:20260421T124916Z
DTSTART:20260318T190000
DTEND:20260318T200000
SUMMARY:Pokalbiai ant sofos. Vakaro svečias VALENTINAS MASALSKIS - AllEvents.lt
DESCRIPTION:https://allevents.lt/teatras/utena/utenos-kamerinis-teatras/109010-teatras-pokalbiai-ant-sofos-vakaro-svecias-valentinas-masalskis-utena-2026-bilietai\n\n\n\nPristatome “Pokalbiai ant sofos” svečią - Valentiną Masalskį. Vienas žymiausių Lietuvos režisierių, aktorius, Klaipėdos universiteto profesorius, jaunimo teatro Klaipėdoje įkūrėjas. Tai žmogus galintis plačiai ir su gyliu kalbėti apie meną, teatrą, gyvenimą. Klausime visko, kas rūpi ir neabejojame gausime su kaupu - gyvenimo išminties ir teatro paslapčių. Yra žmonės su kuriais susitikti iš arti tiesiog būtina. Valentinas vienas iš jų.\n\n \n\nNekantraujame.\n\n\n \n
LOCATION:Utena, , Utenos Kamerinis teatras
BEGIN:VALARM
TRIGGER:-P2D
ACTION:DISPLAY
DESCRIPTION:Go to Pokalbiai ant sofos. Vakaro svečias VALENTINAS MASALSKIS!
END:VALARM
END:VEVENT
END:VCALENDAR
