BEGIN:VCALENDAR
VERSION:2.0
PRODID:-//AllEvents.lt//NONSGML Event//EN
BEGIN:VEVENT
UID:110421@allevents.lt
DTSTAMP:20260421T124916Z
DTSTART:20260326T190000
DTEND:20260326T201500
SUMMARY:Queen ir The Beatles muzika žvakių šviesoje | Fortepijonas | Violončelė | Legendiniai hitai kameriniu atlikimu - AllEvents.lt
DESCRIPTION:https://allevents.lt/koncertai/klaipeda/klaipedos-koncertu-sale/110421-koncertas-queen-ir-the-beatles-muzika-zvakiu-sviesoje-fortepijonas-violoncele-legendiniai-hitai-kameriniu-atlikimu-klaipeda-2026-bilietai\nKviečiame  jus į magišką vakarą Klaipėdos koncertų salėje, kur legendiniai Queen ir The  Beatles hitai atgims subtiliame kameriniame skambesyje — fortepijonas ir  violončelė — ir suskambės visai naujai švelnioje tūkstančių žvakių šviesoje.Tai ne tik koncertas — tai atmosfera. Šiltas žvakių mirgėjimas, artimas garsas,  pažįstamos melodijos ir tos pačios dainos, kurios kadaise mus keitė — dabar  švelniose, emocingose interpretacijose, kurios priverčia šiurpti.
LOCATION:Klaipėda, Šaulių g. 36, Klaipėdos koncertų salė
BEGIN:VALARM
TRIGGER:-P2D
ACTION:DISPLAY
DESCRIPTION:Go to Queen ir The Beatles muzika žvakių šviesoje | Fortepijonas | Violončelė | Legendiniai hitai kameriniu atlikimu!
END:VALARM
END:VEVENT
END:VCALENDAR
