BEGIN:VCALENDAR
VERSION:2.0
PRODID:-//AllEvents.lt//NONSGML Event//EN
BEGIN:VEVENT
UID:110587@allevents.lt
DTSTAMP:20260421T124916Z
DTSTART:20260410T180000
DTEND:20260410T190000
SUMMARY:Natalija Bunkė su gyvo garso grupe | Utena - AllEvents.lt
DESCRIPTION:https://allevents.lt/koncertai/utena/utenos-kulturos-centras/110587-koncertas-natalija-bunke-su-gyvo-garso-grupe-utena-utena-2026-bilietai\n\n\nPo ambicingiausio savo karjeros 360 laipsnių koncerto Žalgirio arenoje NATALIJA BUNKĖ turi naujienų,  kurių praleisti tiesiog neįmanoma! \n\n \n\nBalandžio mėnesį Natalija Bunkė leidžiasi į kelionę po 7 Lietuvos miestus, kuriuose surengs artimus ir šiltus susitikimus su savo gerbėjais bei klausytojais visoje Lietuvoje. \n\n \n\nBalandžio 9 d. Šiauliuose, 10 d. Utenoje, 15 d. Marijampojėlė, 16 d. Jonavoje, 17 d. Klaipėdoje, 23 d. Alytuje ir 24 d. Mažeikiuose.\n
LOCATION:Utena, Aušros g. 49, Utenos kultūros centras
BEGIN:VALARM
TRIGGER:-P2D
ACTION:DISPLAY
DESCRIPTION:Go to Natalija Bunkė su gyvo garso grupe | Utena!
END:VALARM
END:VEVENT
END:VCALENDAR
