BEGIN:VCALENDAR
VERSION:2.0
PRODID:-//AllEvents.lt//NONSGML Event//EN
BEGIN:VEVENT
UID:110706@allevents.lt
DTSTAMP:20260421T111638Z
DTSTART:20260320T180000
DTEND:20260320T220000
SUMMARY:ŠOKIŲ VAKARAS SU ŠLAGERIŲ GRUPE „BALIUS“ - AllEvents.lt
DESCRIPTION:https://allevents.lt/kiti/panevezys/panevezio-kulturos-centras/110706-sokiu-vakaras-su-slageriu-grupe-balius-panevezys-2026-bilietai\nEnergijos ir geros nuotaikos nestokojanti grupė „Balius“ sugrįžta į šokių vakarą!Jis vyks jau visai netrukus – kovo 20 dieną. Kviečiame visus praskaidrinti savo penktadienio vakarą smagiu, nuoširdžiu ir gerai žinomų dainų kupinu muzikiniu pasimatymu!⭐️ Vargu ar šiandien rastume šeimos ar bičiulių susibūrimą be grupės „Balius“ dainų, kurios išjudina kiekvieną. Dueto hitai jau daugiau nei 30 metų linksmina visą Lietuvą, o jų populiarumą liudija ir įspūdingas rekordas – tai daugiausiai muzikinių įrašų pardavusi grupė Lietuvoje. Šio pasiekimo iki šiol niekam nepavyko pranokti!Legendinės dainos, visiems atpažįstami priedainiai ir tikras šventinis šurmulys – būtent tai laukia šokių vakare. Atsispirti norui dainuoti kartu ir suktis šokių aikštelėje bus tiesiog neįmanoma! ??Pasiruoškite tikram BALIUI – muzikai, šokiui ir nepamirštamai nuotaikai!Ateikite – bus smagu! ?
LOCATION:Panevėžys, Kranto g. 28, Panevėžio kultūros centras
BEGIN:VALARM
TRIGGER:-P2D
ACTION:DISPLAY
DESCRIPTION:Go to ŠOKIŲ VAKARAS SU ŠLAGERIŲ GRUPE „BALIUS“!
END:VALARM
END:VEVENT
END:VCALENDAR
