BEGIN:VCALENDAR
VERSION:2.0
PRODID:-//AllEvents.lt//NONSGML Event//EN
BEGIN:VEVENT
UID:110999@allevents.lt
DTSTAMP:20260421T124915Z
DTSTART:20260313T164500
DTEND:20260314T004500
SUMMARY:Autobusas į ledo šou „Stichijos 2: Pasadoblis“ Kaune iš Vilniaus - AllEvents.lt
DESCRIPTION:https://allevents.lt/koncertai/vilnius/lietuvos-nacionalinis-operos-ir-baleto-teatras/110999-autobusas-i-ledo-sou-stichijos-2-pasadoblis-kaune-is-vilniaus-bilietai\nKviečiame jungtis kelionei iš Vilniaus patogiu autobusu į ledo šou „Stichijos 2: Pasadoblis“ Kaune.Lietuvos ir pasaulio dailiojo čiuožimo žvaigždės atvyksta į Kauną kvapą gniaužiančiam pasirodymui. Olimpiniai, Europos ir pasaulio dailiojo čiuožimo čempionai, simfoninio orkestro muzika, projekcijos ir kiti specialieji efektai, žinomi daininkai ir dar daug visko sukurs nepamirštamą patirtį, kurią širdyje nešiositės dar ilgai. Renginio metu pasirodys ir tik ką žiemos olimpinėse žaidynėse Italijoje garbingą 6-tąją vietą iškovoję Lietuvos atstovai Allison Reed ir Saulius Ambrulevičius.Norite saugiai ir patogiai nuvykti? Nesinori naktį vairuoti ir ieškoti kur parkuotis? Į ledo šou „Stichijos 2: Pasadoblis“ Kaune ir atgal po jo vykite autobusu. Kelionė į abi puses. Nuvyksite šalia arenos.Jūsų patogumui numatytos dvi keleivių į(iš)laipinimo vietos skirtingose Vilniaus vietose.Pakeliui galimas sustojimas Elektrėnuose.Daugiau informacijos ir rezervacija sistemoje Busmio.com.
LOCATION:Vilnius, A. Vienuolio g. 1, Lietuvos nacionalinis operos ir baleto teatras
BEGIN:VALARM
TRIGGER:-P2D
ACTION:DISPLAY
DESCRIPTION:Go to Autobusas į ledo šou „Stichijos 2: Pasadoblis“ Kaune iš Vilniaus!
END:VALARM
END:VEVENT
END:VCALENDAR
