BEGIN:VCALENDAR
VERSION:2.0
PRODID:-//AllEvents.lt//NONSGML Event//EN
BEGIN:VEVENT
UID:111844@allevents.lt
DTSTAMP:20260421T124916Z
DTSTART:20260401T190000
DTEND:20260401T201500
SUMMARY:Kino Muzikos Koncertas žvakių šviesoje. Styginių | Kvartetas - AllEvents.lt
DESCRIPTION:https://allevents.lt/koncertai/klaipeda/klaipedos-koncertu-sale/111844-koncertas-kino-muzikos-koncertas-zvakiu-sviesoje-styginiu-kvartetas-klaipeda-2026-bilietai\nKviečiame jus  pasimėgauti šiltomis mėgstamų filmų melodijomis tūkstančių žvakių šviesoje.Šis vakaras bus  kupinas gražios muzikos, magiškos atmosferos ir tikro kino stebuklo jausmo.Styginių kvartetas  atliks žymiausias temas, palikusias pėdsaką širdyje: Tarp žvaigždžių  (Interstellar), Žvaigždžių karai (Star Wars), Gimė žvaigždė (A Star Is Born),  Amelija (Amélie), Vienas namuose (Home Alone), Karibų piratai (Pirates of the  Caribbean), Krikštatėvis (The Godfather), Haris Poteris (Harry Potter), Žiedų  valdovas (The Lord of the Rings), Gladiatorius (Gladiator), Šindlerio sąrašas  (Schindler’s List) ir daugelį kitų.Švelnioje žvakių  šviesoje pažįstami kūriniai suskambės naujai. Be ekrano, bet su visomis  emocijomis, kurias prisimename, kartu prisiminsime mėgstamas scenas ir  išgyvensime jas dar kartą – gyvai skambant styginiams, tarsi atgaivinantiems  kiekvieną kadrą mūsų vaizduotėje.Tai vakaras, kai  galima tiesiog atsipalaiduoti, pasimėgauti gyva muzika ir prisiminti akimirkas,  kurios kadaise palietė širdį.
LOCATION:Klaipėda, Šaulių g. 36, Klaipėdos koncertų salė
BEGIN:VALARM
TRIGGER:-P2D
ACTION:DISPLAY
DESCRIPTION:Go to Kino Muzikos Koncertas žvakių šviesoje. Styginių | Kvartetas!
END:VALARM
END:VEVENT
END:VCALENDAR
