BEGIN:VCALENDAR
VERSION:2.0
PRODID:-//AllEvents.lt//NONSGML Event//EN
BEGIN:VEVENT
UID:111930@allevents.lt
DTSTAMP:20260421T124915Z
DTSTART:20260313T200000
DTEND:20260313T220000
SUMMARY:Julija Ritčik trio koncertas - AllEvents.lt
DESCRIPTION:https://allevents.lt/koncertai/vilnius/california-bar-restaurant/111930-koncertas-julija-ritcik-trio-koncertas-vilnius-2026-bilietai\nKviečiame į jaukų Julijos Ritčik trio koncertą California Bar & Restaurant aplinkoje. Tai ypatingas vakaras, kuriame galėsite ne tik pasiklausyti gyvos muzikos, bet ir maloniai praleisti laiką mėgaujantis kokteiliais bei užkandžiais. Į bilieto kainą įskaičiuota vyno taurė ir užkandis, kad vakaras būtų dar jaukesnis ir skanesnis
LOCATION:Vilnius, Subačiaus g. 2, California Bar & Restaurant
BEGIN:VALARM
TRIGGER:-P2D
ACTION:DISPLAY
DESCRIPTION:Go to Julija Ritčik trio koncertas!
END:VALARM
END:VEVENT
END:VCALENDAR
