BEGIN:VCALENDAR
VERSION:2.0
PRODID:-//AllEvents.lt//NONSGML Event//EN
BEGIN:VEVENT
UID:113565@allevents.lt
DTSTAMP:20260421T124916Z
DTSTART:20260320T220000
DTEND:20260320T230000
SUMMARY:Yaga-Ball 2026 - Equinox Masquerade - AllEvents.lt
DESCRIPTION:https://allevents.lt/koncertai/vilnius/kablys-kultura/113565-koncertas-yaga-ball-2026-equinox-masquerade-vilnius-2026-bilietai\n\nPo devynerių metų Yaga-Ball sugrįžta.Lygiadienio maskaradas žymi sistemos virsmą. Vienai nakčiai Kablys 2.0 taps beprotišku kaukių baliumi, kur elektroninė muzika, performatyvios intervencijos, scenografija ir neaiškių šaltinių signalai susijungs erdvėje. Gali ateiti ir be kostiumo, tačiau Yaga skatina vadovautis “pasidaryk pats” principu ir kurti savo įvaizdį, žaidžiant su grimu, medžiagomis bei eksperimentuojant su turimais resursais. Rezultatai bus pastebėti, įvertinti ir apdovanoti.Geriausias kūrinys laimės pastangų vertą prizą — dvi Yaga keliones dviem asmenims:Viena — į Yaga Gathering 2026, liepos 16–20 d., Spenglos miškuose.Kita — stebėti visišką saulės užtemimą Ispanijoje 2026 m. rugpjūčio 12 d.Antra vieta laimės du bilietus į Yaga Gathering 2026, trečia - vieną.Viena beprotiška kelionė.*********************************BALLROOM lineupMAMA SNAKE (DK)MARIA PASKEVIC (LT)MIRROR SLAVE (LT)NADIA STRUIWIGH (NL)TADAN (LT)*********************************DUSKWOOD lineupALREADY MAGED (UA)ARJUNA (IT)DRYAD (US)ENSURE (LT)GIDO (LT)*********************************SLOWDANCE lineupBBN x DOMEIKA (LT)*********************************PERFORMANCERADIANT MARCH — Spektaklis, kuriame kaukės, šokis ir ritualai, žmonės, gyvūnai ir dievai – mitiniai ir realūs – susijungia, kad švęstų žiemos pabaigą ir pavasario sugrįžimą.Idėja: Alina Pilecka.Choreografija ir atlikimas: Alina Pilecka, Inga Zybailaitė, Ugnė Lučauskaitė, Aurelija Jakimavičiūtė, Sandra Konovalova.\n
LOCATION:Vilnius, Kauno g. 5, Kablys + Kultūra
BEGIN:VALARM
TRIGGER:-P2D
ACTION:DISPLAY
DESCRIPTION:Go to Yaga-Ball 2026 - Equinox Masquerade!
END:VALARM
END:VEVENT
END:VCALENDAR
