BEGIN:VCALENDAR
VERSION:2.0
PRODID:-//AllEvents.lt//NONSGML Event//EN
BEGIN:VEVENT
UID:113588@allevents.lt
DTSTAMP:20260421T124916Z
DTSTART:20260410T190000
DTEND:20260410T200000
SUMMARY:GALÈRA albumo ,,GARSU" pristatymas - AllEvents.lt
DESCRIPTION:https://allevents.lt/koncertai/vilnius/kablys-kultura/113588-koncertas-gal-ra-albumo-garsu-pristatymas-vilnius-2026-bilietai\n\nSniegas tirpsta, upės tvinsta, muzika gimsta. Grupė GALÈRA kviečia į albumo “GARSU” pristatymą. Pažadame, kad koncerte bus ne tik GARSU, bet ir be galo gražu. Scenoje gros nemažas būrys puikių muzikantų, dainuos nuostabiausias choras, koncertą sudrebins du ypatingi svečiai ir jų balsai….Kviečiame!!! Bendra renginio informacijaData: Balandžio 10 dienaDurys: 19:00 Vieta: ,,Kablys", Kauno g. 5, VilniusDėkojame AGATA už suteiktą finansavimą albumo įrašams ir koncertui įgyvendinti.\n
LOCATION:Vilnius, Kauno g. 5, Kablys + Kultūra
BEGIN:VALARM
TRIGGER:-P2D
ACTION:DISPLAY
DESCRIPTION:Go to GALÈRA albumo ,,GARSU" pristatymas!
END:VALARM
END:VEVENT
END:VCALENDAR
