BEGIN:VCALENDAR
VERSION:2.0
PRODID:-//AllEvents.lt//NONSGML Event//EN
BEGIN:VEVENT
UID:115360@allevents.lt
DTSTAMP:20260421T124915Z
DTSTART:20260329T100000
DTEND:20260329T110000
SUMMARY:F1 coffee break @Lumber Room - AllEvents.lt
DESCRIPTION:https://allevents.lt/sportas/vilnius/lumber-room/115360-sportas-f1-coffee-break-lumber-room-vilnius-2026-bilietai\n\nKovo 29 d. 10:00 kviečiame į F1 lenktynių aptarimą – kartu stebėsime Japanese Grand Prix iš legendinės Suzuka trasos Japonijoje. Tai viena įdomiausių trasų kalendoriuje – greita, techniška ir vienintelė „figure-8“ tipo trasa Formulėje 1.Karšta kava ir lenktynių rytas su bendraminčiais Lumber Room.*vaikams iki 12metų įėjimas nemokamas (atvykus kartu su suaugusiuoju). \n
LOCATION:Vilnius, Dūmų gatvė, Lumber Room
BEGIN:VALARM
TRIGGER:-P2D
ACTION:DISPLAY
DESCRIPTION:Go to F1 coffee break @Lumber Room!
END:VALARM
END:VEVENT
END:VCALENDAR
