BEGIN:VCALENDAR
VERSION:2.0
PRODID:-//AllEvents.lt//NONSGML Event//EN
BEGIN:VEVENT
UID:122316@allevents.lt
DTSTAMP:20260420T114254Z
DTSTART:20260430T190000
DTEND:20260430T200000
SUMMARY:STAND UPOpen Mic - Memel Comedy Co - (04.30) Klaipėda / baras Rasãlas - AllEvents.lt
DESCRIPTION:https://allevents.lt/teatras/klaipeda/baras-ras-las/122316-teatras-stand-upopen-mic-memel-comedy-co-04-30-klaipeda-baras-ras-las-klaipeda-2026-bilietai\n\nMEMEL COMEDY CO - kviečia Jus į STAND UP Open Mic!!!?Dieną prieš nedarbo dieną. Balandžio 30 d. (ketvirtadienį), 19:00 val.  STAND UP Open Mic vyks bare Rasãlas ?  (Tiltų g. 5, Klaipėda) Rasãle tą vakarą netrūks juoko ir gerų emocijų!"Open Mic" Atviras Mikrofonas - tai renginys, kurio metu pradedantys (ir ne tik) komikai mėgina savo jėgas Stand Up komedijos scenoje, tobulina savo programas tolimesniems pasirodymams. Nori lipti ant scenos?Jei nori išbandyti save stand up scenoje, registruokis:memel.comedy.co@gmail.com+37067492013 Komikų sąrašas:Emily DžounsMarius StašauskasRugilė ŽvilauskaitėGediminas PovilavičiusVytautas ŠalomskasTomas BumblauskasAntanas JonaitisVilius Bočkus* komikų sąrašas gali keistis. Durys: 18:30 val. Ateikite anksčiau, veiks baras Rasãlas (Tiltų g. 5, Klaipėda)Vietos sėdimos, nesunumeruotos ir nerezervuojamos.Pradžia: 19:00 val. Renginio trukmė:  I dalis– 45 min.  Pertrauka – 20 min.   II dalis – 45 min.Amžiaus cenzas: N-16, baras N-20Bilietai negrąžinami. ?Renginio metu bus fotografuojama ir filmuojama. Nuotraukose ir vaizdo įrašuose gali matytis Jūsų atvaizdas. Dalyvaudami renginyje Jūs sutinkate, kad vaizdinė medžiaga gali būti naudojama įvairiose viešinimo priemonėse (socialinėje erdvėje, interneto portaluose).\n
LOCATION:Klaipėda, Tiltų gatvė, Baras Rasãlas
BEGIN:VALARM
TRIGGER:-P2D
ACTION:DISPLAY
DESCRIPTION:Go to STAND UPOpen Mic - Memel Comedy Co - (04.30) Klaipėda / baras Rasãlas!
END:VALARM
END:VEVENT
END:VCALENDAR
