BEGIN:VCALENDAR
VERSION:2.0
PRODID:-//AllEvents.lt//NONSGML Event//EN
BEGIN:VEVENT
UID:122317@allevents.lt
DTSTAMP:20260420T115250Z
DTSTART:20260517T190000
DTEND:20260517T200000
SUMMARY:midnight harbour | Hogas - AllEvents.lt
DESCRIPTION:https://allevents.lt/koncertai/kaunas/hogas-pub/122317-koncertas-midnight-harbour-hogas-kaunas-2026-bilietai\n\nmidnight harbour – keturių neužmiegančių muzikantų kolektyvas, plaukiantis niekada neužšąlančiame uoste tarp originalios kūrybos ir mylimų R&B bei soul klasikų. Tai muzika tarp meilės ir ilgesio, tarp švelnumo ir tyliai skaudančių jausmų, gimstanti kažkur tarp Kopenhagos ir Klaipėdos.Mūsų koncertai – jaukūs, gyvi ir artimi. Viskas skamba visiškai „live“: stiprus vokalas, gyvi instrumentai ir tikras ryšys su klausytoju. Esame kaip šeima, o kartu praleistas laikas – neatsiejama mūsų kelionės dalis, kuria norime dalintis ir su jumis.Kovo mėnesį surengėme du išparduotus koncertus pajūryje, tai mums buvo svarbus patvirtinimas, kad ši muzika ne tik pasiekia klausytoją, bet ir kuria tikrą, gyvą ryšį.Vakaro metu skambės dainos apie meilę – melancholiškos, romantiškos ir nostalgiškos, įkvėptos tokių atlikėjų kaip Erykah Badu, Amy Winehouse, Robert Glasper ir Thundercat, kartu su mūsų autorine kūryba.Jeigu norisi šilumos, artumo ir muzikos, kuri ne tik skamba, bet ir gyvena tarp žmonių – labai lauksime tavęs mūsų naktiniame uoste.\n
LOCATION:Kaunas, Kaunakiemio g. 40, Hogas Pub
BEGIN:VALARM
TRIGGER:-P2D
ACTION:DISPLAY
DESCRIPTION:Go to midnight harbour | Hogas!
END:VALARM
END:VEVENT
END:VCALENDAR
