BEGIN:VCALENDAR
VERSION:2.0
PRODID:-//AllEvents.lt//NONSGML Event//EN
BEGIN:VEVENT
UID:122318@allevents.lt
DTSTAMP:20260420T112813Z
DTSTART:20260710T235900
DTEND:20260711T005900
SUMMARY:PARTIBOI69 :: gallery night :: 07,10 - AllEvents.lt
DESCRIPTION:https://allevents.lt/koncertai/vilnius/gallery-1986/122318-koncertas-partiboi69-gallery-night-07-10-vilnius-2026-bilietai\n\n}}}}}}}} THE PLEASURE IS MUTUAL {{{{{{{{ ::::: partiboi69 yra tarsi svarstyklės, kurių vienoje pusėje ––– absurdas, ironija ir kūno skysčiai, o kitoje –––– bekompromisė kokybė ir labai aiškus supratimas, kas veikia šokių aikštelėje ^^ šalia visų gabumų ir jau interneto folkloru tapusio įvaizdžio, seksualusis australas sugeba dar vieną svarbų dalyką ::: ne apsimesti reiškiniu, o juo būti ^^ :::: slidūs ir purvini electro, techno ir ghetto house teptukai jo rankose paišo anaiptol ne nostalgišką, o gyvą ir fatališką dabarties paveikslą, kuris galerijoje suskambės taip, kaip priklauso :: tiesiai į papilvę ir be didelių užuolankų ^^ }}}}}}}} ALWAYS KEEP IT 69 –––– 69 AND UNPROTECTED {{{{{{{{ 69696969696969696969696969 PARTIBOI69JAROŠKAMANTAS T.MONIKA SETAROE DEERS 69696969696969696969696969 ^ N19^ bilietai nekeičiami ir negrąžinami^ turėk asmens dokumentą^ klubas pasilieka teisę nepakviesti užeiti be papildomo paaiškinimo^ take care && have fun \n
LOCATION:Vilnius, Kauno g. 32, Gallery 1986
BEGIN:VALARM
TRIGGER:-P2D
ACTION:DISPLAY
DESCRIPTION:Go to PARTIBOI69 :: gallery night :: 07,10!
END:VALARM
END:VEVENT
END:VCALENDAR
