BEGIN:VCALENDAR
VERSION:2.0
PRODID:-//AllEvents.lt//NONSGML Event//EN
BEGIN:VEVENT
UID:122320@allevents.lt
DTSTAMP:20260421T105036Z
DTSTART:20260515T180000
DTEND:20260515T190000
SUMMARY:Prof. Stasio Šalkauskio premijos įteikimo šventinis renginys - AllEvents.lt
DESCRIPTION:https://allevents.lt/koncertai/siauliai/siauliu-koncertu-sale-saule/122320-koncertas-prof-stasio-salkauskio-premijos-iteikimo-sventinis-renginys-siauliai-2026-bilietai\n\n\nGegužės 15 d. 18 val. koncertų salėje „Saulė“ vyks prof. Stasio Šalkauskio premijos įteikimo ceremonija ir šventinis koncertas.\n\n \n\nStasio Šalkauskio premija – tai garbinga kultūrinė iniciatyva, skatinanti ir pagerbianti įdėjas kuriančius intelektualus, menininkus ir visuomenės veikėjus. Ji teikiama kas trejus metus, įprastai gegužės 16-ąją, ir padeda išlaikyti bei puoselėti S. Šalkauskio filosofinį ir kultūrinį palikimą.\n\n \n\nKoncerto metu skambės Ola Gjeilo „Sunrise Mass“ („Saulėtekio mišios“)\n\nOla Gjeilo - norvegų kilmės kompozitorius ir pianistas, gyvenantis JAV. Jis garsėja savo šiuolaikine, emocionalia ir plačiai klausytojų mėgstama sakraline muzika. „Sunrise Mass“ („Saulėtekio mišios“) sukurta 2010 m. Tai keturių dalių kūrinys mišriam chorui ir styginių orkestrui. Mišios neturi tradicinės liturginės formos, o labiau atspindi filosofinę ir dvasinę kelionę – nuo kosmoso platybių iki žmogaus vidinio pasaulio:\n\n\n\nThe Spheres („Sferos“)\n\n\n\nSunrise („Saulėtekis“)\n\n\n\nThe City („Miestas“)\n\n\n\nIdentity & The Ground („Tapatybė ir žemė“)\n\n\n\n„Sunrise Mass“ šiandien yra vienas populiariausių šiuolaikinių chorinių kūrinių pasaulyje – jį dažnai atlieka profesionalūs ir mėgėjų chorai, nes muzika lengvai suprantama klausytojams, o kartu išlaiko gilią dvasinę prasmę.\n\n \n\nAtlikėjai:\n\n\nŠiaulių berniukų ir jaunuolių choras „Dagilėlis“ (meno vad. Remigijus Adomaitis)\n\nŠiaulių valstybinis kamerinis choras „Polifonija“ (meno vad. Povilas Vanžodis)\n\nChoras Singakademie Ortenau (meno vad. Olaf Fütterer, Vokietija)\n\nŠiaulių miesto simfoninio orkestro „Camerata Solaris“ styginių grupė (meno vad. Vilhelmas Čepinskis)\n\n\n \n\nDirigentas Remigijus Adomaitis\n\nRenginio vedėjas Dovydas Petkus\n\n \n\nOrg. Šiaulių miesto koncertinė įstaiga „Saulė“, rengėja Šiaulių miesto savivaldybė.\n
LOCATION:Šiauliai, , Šiaulių koncertų salė Saulė
BEGIN:VALARM
TRIGGER:-P2D
ACTION:DISPLAY
DESCRIPTION:Go to Prof. Stasio Šalkauskio premijos įteikimo šventinis renginys!
END:VALARM
END:VEVENT
END:VCALENDAR
