BEGIN:VCALENDAR
VERSION:2.0
PRODID:-//AllEvents.lt//NONSGML Event//EN
BEGIN:VEVENT
UID:122321@allevents.lt
DTSTAMP:20260421T110021Z
DTSTART:20260516T140000
DTEND:20260516T150000
SUMMARY:Kaimo kapelų festivalis "Muzikantų sambūris 2026" - AllEvents.lt
DESCRIPTION:https://allevents.lt/koncertai/slavikai/slaviku-mokyklos-kiemas/122321-koncertas-kaimo-kapelu-festivalis-muzikantu-samburis-2026-slavikai-2026-bilietai\n\n
LOCATION:Slavikai, , Slavikų mokyklos kiemas
BEGIN:VALARM
TRIGGER:-P2D
ACTION:DISPLAY
DESCRIPTION:Go to Kaimo kapelų festivalis "Muzikantų sambūris 2026"!
END:VALARM
END:VEVENT
END:VCALENDAR
