BEGIN:VCALENDAR
VERSION:2.0
PRODID:-//AllEvents.lt//NONSGML Event//EN
BEGIN:VEVENT
UID:122322@allevents.lt
DTSTAMP:20260421T110014Z
DTSTART:20260513T190000
DTEND:20260513T200000
SUMMARY:Utenos Kamerinio teatro spektaklis “TAMSOS ŠVYTURYS” - AllEvents.lt
DESCRIPTION:https://allevents.lt/teatras/utena/utenos-kamerinis-teatras/122322-teatras-utenos-kamerinio-teatro-spektaklis-tamsos-svyturys-utena-2026-bilietai\n\n\n\nSpektaklis šiemet atstovausiantis Lietuvą NEATA (Šiaurės Europos šalių mėgėjų teatrų aljansas) festivalyje Estijoje. Tai pasakojimas apie mūsų kraštietį, iškilią tarpukario Lietuvos asmenybę, Praną Daunį. Šiemet minimos 125-sios jo gimimo metinės. Spektaklyje atskleidžiama jautri, emocinga kario savanorio gyvenimo istorija. Tarpukario Lietuva ir jos žmonės su savo džiugesiais ir nuopoliais. Meilė Tėvynei, tyli viltis, stiprybė ir daina mūsų protėvių lūpose skambėjusi kiek kitaip… Šis spektaklis kanklių stygomis vilnijantis TAMSOS ŠVYTURIO aidas kiekvieno mūsų širdyse.\n\n\n \n
LOCATION:Utena, , Utenos Kamerinis teatras
BEGIN:VALARM
TRIGGER:-P2D
ACTION:DISPLAY
DESCRIPTION:Go to Utenos Kamerinio teatro spektaklis “TAMSOS ŠVYTURYS”!
END:VALARM
END:VEVENT
END:VCALENDAR
