BEGIN:VCALENDAR
VERSION:2.0
PRODID:-//AllEvents.lt//NONSGML Event//EN
BEGIN:VEVENT
UID:122323@allevents.lt
DTSTAMP:20260421T105036Z
DTSTART:20260520T190000
DTEND:20260520T200000
SUMMARY:UKT spektaklis “AMERIKA PIRTYJE” - AllEvents.lt
DESCRIPTION:https://allevents.lt/teatras/utena/utenos-kamerinis-teatras/122323-teatras-ukt-spektaklis-amerika-pirtyje-utena-2026-bilietai\n\n\n\nPrieš 7 metus žiūrovams pristatėme legendinę J. Vilkutaičio-Keturakio pjesę „Amerika pirtyje. Spektaklis buvo skirtas 120 pirmojo viešo lietuviško vaidinimo metinėms paminėti. Visiškai nelauktai spektaklis tapo populiariausiu UKT repertuare. Spektaklis rodytas visoje Lietuvoje ir užsienyje daugiau kaip 70 kartų. Tęsiame tradiciją, gegužės mėnesį, parodyti jį Utenos Kamerineme teatre.\n\n\n \n
LOCATION:Utena, , Utenos Kamerinis teatras
BEGIN:VALARM
TRIGGER:-P2D
ACTION:DISPLAY
DESCRIPTION:Go to UKT spektaklis “AMERIKA PIRTYJE”!
END:VALARM
END:VEVENT
END:VCALENDAR
