BEGIN:VCALENDAR
VERSION:2.0
PRODID:-//AllEvents.lt//NONSGML Event//EN
BEGIN:VEVENT
UID:122324@allevents.lt
DTSTAMP:20260421T105042Z
DTSTART:20260421T160000
DTEND:20260421T170000
SUMMARY:FK TAURAS - FC Hegelmann - AllEvents.lt
DESCRIPTION:https://allevents.lt/sportas/taurage/taurages-dirbtines-dangos-aikste/122324-sportas-fk-tauras-fc-hegelmann-taurage-2026-bilietai\n\n
LOCATION:Tauragė, , Tauragės dirbtinės dangos aikštė
BEGIN:VALARM
TRIGGER:-P2D
ACTION:DISPLAY
DESCRIPTION:Go to FK TAURAS - FC Hegelmann!
END:VALARM
END:VEVENT
END:VCALENDAR
