BEGIN:VCALENDAR
VERSION:2.0
PRODID:-//AllEvents.lt//NONSGML Event//EN
BEGIN:VEVENT
UID:122325@allevents.lt
DTSTAMP:20260421T105042Z
DTSTART:20260423T180000
DTEND:20260423T193000
SUMMARY:Improvizacijų šou ILGAS - AllEvents.lt
DESCRIPTION:https://allevents.lt/teatras/klaipeda/artyn-teatras/122325-teatras-improvizaciju-sou-ilgas-klaipeda-2026-bilietai\nILGAS – improvizuota komedija Klaipėdoje Yra spektakliai, kuriuos gali numatyti iš anksto.Ir yra tokie, kur net aktoriai nežino, ką vaidins. ILGAS – tai ilgojo formato improvizacijų šou – komedija, kur:•                    istorijos gimsta čia pat, scenoje,•                    aktoriai įsikvėpia iš žiūrovų pasiūlymų,•                    nėra nei scenarijaus, nei nuspėjamos pabaigos. Per vieną vakarą gali pamatyti:•                    nekasdieniškas istorijas,•                    keistų pomėgių personažus (gal panašius į tave),•                    ir juos visus siejančią veiklą. O geriausia dalis – tai niekada nepasikartos. Scenoje – POSH – trupė, kuri sukuria komediją, be jokio plano, vien tik įkvėpta žiūrovų ištartų frazių. Kartais jie nustebina ne tik žiūrovus, bet ir patys save. Pasirodymo pradžia – gegužės 23 d., 18 val.Trukmė – 1,5 val.Vieta – Teatras ARTYN, Danės g. 8 (AB „Klaipėdos Energija“), Klaipėda. Trupė POSH yra IMPRO Kaunas teatro veteranai profesionaliai atliekantys ilgo formato improvizaciją.Perkant 10 ir daugiau bilietų galite kreiptis: vipklientai@bilietai.ltDurys atidaromos: ~30 min. iki renginio pradžiosRenginio trukmė: ~1:30Pertraukos: nėraRenginio kalba: lietuviųVaikai įleidžiami nemokamai: neAmžiaus cenzas: N-14Nuolaidos: netaikomos
LOCATION:Klaipėda, Daržų g. 18, ARTYN teatras
BEGIN:VALARM
TRIGGER:-P2D
ACTION:DISPLAY
DESCRIPTION:Go to Improvizacijų šou ILGAS!
END:VALARM
END:VEVENT
END:VCALENDAR
