BEGIN:VCALENDAR
VERSION:2.0
PRODID:-//AllEvents.lt//NONSGML Event//EN
BEGIN:VEVENT
UID:122338@allevents.lt
DTSTAMP:20260421T105036Z
DTSTART:20260906T183000
DTEND:20260906T200000
SUMMARY:Vilniaus tango teatras - En La Yeca Tango - AllEvents.lt
DESCRIPTION:https://allevents.lt/teatras/vilnius/la-casa-del-tango-gedimino-pr-64/122338-teatras-vilniaus-tango-teatras-en-la-yeca-tango-vilnius-2026-bilietai\nTANGO EN LA YECAIntriguojantis pasimatymas su tango.Tango – tai miesto šokis, neatsiejama Buenos Airių megapolio kultūros ir naktinio gyvenimo dalis. Jis gimė gatvėje – ten, kur liejosi jausmai, kur skambėjo muzika, kur aistra ir nostalgija tapo neatskiriama kasdienybės dalimi. Tango buvo ir tebėra šokamas baruose, gatvėse, užkampiuose – visur, kur pulsuoja gyvenimas, kur žmonės jaučia ir myli.„Tango en la Yeca“ („yeca“ – Buenos Airių slengu, vadinamu lunfardo, reiškia gatvę) – tai pasirodymas, kuriame tango atgyja taip, lyg jis gimtų čia ir dabar: nuo provokuojančio žvilgsnio, nedrąsaus prisilietimo, pirmojo apsikabinimo iki atviro, kerinčio, aistringo tango.Šiame dinamiškame šou emocijomis su žiūrovais dalinasi šokėjai Alexis Gonzalez, Veronica Luna, Gabriel Carballo, Sol Oyhenart, Eduardo Pedroso, Jade Rodriguez, vokalistė Patricija Luščynska.Choreografai – Sigitas Repšys ir Alexis Gonzalez, šviesų režisierius – Modestas Jančiulis, garso režisierius – Modestas Milčius („Modis Events“).Rugsėjo 6-oji Buenos Airėse minima kaip Tango šokėjos diena – ši data pasirinkta legendinės šokėjos María Nieves gimimo garbei.Vilniaus tango teatras šį vakarą skiria jos atminimui ir tango dvasiai, kurią ji įkūnijo.
LOCATION:Vilnius, Gedimino pr. 64, La Casa Del Tango, Gedimino pr. 64
BEGIN:VALARM
TRIGGER:-P2D
ACTION:DISPLAY
DESCRIPTION:Go to Vilniaus tango teatras - En La Yeca Tango!
END:VALARM
END:VEVENT
END:VCALENDAR
