BEGIN:VCALENDAR
VERSION:2.0
PRODID:-//AllEvents.lt//NONSGML Event//EN
BEGIN:VEVENT
UID:122341@allevents.lt
DTSTAMP:20260421T104919Z
DTSTART:20260425T190000
DTEND:20260425T200000
SUMMARY:STAND UP OPEN MIC - AllEvents.lt
DESCRIPTION:https://allevents.lt/teatras/vilnius/paviljonas/122341-teatras-stand-up-open-mic-vilnius-2026-bilietai\n\nKomikai ir norintys jais tapti keliasi nuo sofų ir ateina testuoti bei tiuninguoti savo bajerių. Jūs irgi atsikelkite ir ateikite pažiūrėti, kaip jiems seksis. Bus juokinga, bus nejauku, bus visa europaletė emocijų. Vakarą padės stebėti Tomaš Rynkevič, plačiai žinomas dėl savo siaurų akių.VAKARO DALYVIAI:Simanas Žurauskas                          Boris SurajevKiril Grigoraščiuk                               Andrej BulbenkovLukas Bunkus                                    Marius PikViktorija Vežbickytė                          Šarūnas GirdauskasVIETA: Devyniasdešimt aštunti, Pylimo g. 58, Vilnius (geros picos ir geri gėrimai)DURYS: 18:30PRADŽIA: 19:00Lipančių sąrašas gali keistis, nes visko būna gyvenime.Bilietai grąžinami neįvykus renginiui.\n
LOCATION:Vilnius, Pylimo gatvė, Paviljonas
BEGIN:VALARM
TRIGGER:-P2D
ACTION:DISPLAY
DESCRIPTION:Go to STAND UP OPEN MIC!
END:VALARM
END:VEVENT
END:VCALENDAR
