BEGIN:VCALENDAR
VERSION:2.0
PRODID:-//AllEvents.lt//NONSGML Event//EN
BEGIN:VEVENT
UID:122345@allevents.lt
DTSTAMP:20260421T104919Z
DTSTART:20260524T100000
DTEND:20260524T110000
SUMMARY:Ilgo formato improvizacija Klaipėdoje - AllEvents.lt
DESCRIPTION:https://allevents.lt/teatras/klaipeda/hofas/122345-teatras-ilgo-formato-improvizacija-klaipedoje-klaipeda-2026-bilietai\n\nVisus norinčius pasitreniruoti improvizuoti laisvu stiliumi, be taisyklių ir laiko limitų kviečiame susipažinti, bei atšviežinti savo žinias ilgo formato improvizacijos pagrindų dirbtuvėse. Užsiėmimas yra tinkamas tiek pradedantiesiems, tiek įgudusiems improvizuotojams. Dirbtuvių metu sužinosite kaip:- Pradėti scenas stipriai ir aiškiai. Gera pradžia - puse darbo. Dažnu atveju scenas žmonės pradeda  „iš reikalo" ir nukreipia dėmesį į išorę ar išgalvotus dalykus, kurie net jiems patiems nėra įdomūs Mes jas pradėsime su malonumu ir iš karto į jas stipriai įsijausdami.- Sukurti įdomų kontekstą. Kad vaidinimai būtų įdomūs tiek atlikėjams, tiek žiūrovams, yra svarbu susikurti  įdomias aplinkybes. Improvizuojant galima manipuliuoti ir žongliruoti visais kuriamais komponentais.- Išgirsti ką iš tikrųjų sako partneris scenoje. Dažnai yra išgirstamos nuotrupos ir skubama atsakyti. Susitikę treniruosimės pasiklausyti ir suprasti esmę. Vaidindami įvertinsime partnerio žodžius, emocijas ir kūno kalbą.- Improvizuoti pasinaudojant tuo kas sukurta ir neskubant išrasti naujų įdomesnių dalykų.Dirbtuvių metu suprasite, kad improvizuoti laisvu stiliumi yra lengva, smagu ir paprasta! Ateik linksmai praleisti laiką ir sužinok įdomybių apie improvizuotų spektaklių pasaulį. Maksimalus dalyvių skaičius – 12Dirbtuvės vyks gegužės 24 dieną 10:00-13:00 Kaina:12 eurų studentams ir asmenims su finansiniais sunkumais19 eurų standartinė kaina29 eurai norintiems paremti teatrą Vieta – Teatras ARTYN Danės g. 8, AB "Klaipėdos Energija", Klaipėda Ilgo formato (angl. long-form) improvizacijoje vaidinimai kuriami be taisyklių. Vaidinimų struktūrų ar atlikimo metodų atlikėjai žiūrovams nepasakoja. Atlikėjas kartu su komanda turi susikurti pats sau iššūkius, juos įveikti ir nustebinti žiūrovus. Stiprus ilgo formato improvizacijos atlikėjas geba sąmoningai valdyti savo emocijas, priimti įdomius sprendimus, žengti per savo komforto ribas, eksperimentuoti, siurbti informaciją iš partnerio, bei aplinkos, pasitelkti asmenines ir kolegų patirtis stipriam turiniui kurti.Improvizacijos dirbtuves ves Deividas Borodulinas – „Impro Kaunas“ teatro meno vadovas.Jis yra pasirodęs Osle, Kopenhagoje ir Varšuvoje bei studijavęs improvizaciją pas improvizacijos meistrus Will Hines, Adam Cawley, Rob Norman, Jeff Michalski, Monika Smith, Alex Berg, Inbal Lori ir kitus. Deividas yra baigęs UCB ir WGIS ”game of the scene” stiliaus improvizacijos mokyklas. Jam patinka improvizuoti stipriai ir nuolat ieškoti improvizacijos galimybių ribų. Deividas vaidina trupėse ”Mini-Fridge” (tarptautinė), POSH, kartu pasirodo su „Impro Kaunas“ teatro nariais privačiuose renginiuose.\n
LOCATION:Klaipėda, Danės g. 8, Hofas
BEGIN:VALARM
TRIGGER:-P2D
ACTION:DISPLAY
DESCRIPTION:Go to Ilgo formato improvizacija Klaipėdoje!
END:VALARM
END:VEVENT
END:VCALENDAR
