BEGIN:VCALENDAR
VERSION:2.0
PRODID:-//AllEvents.lt//NONSGML Event//EN
BEGIN:VEVENT
UID:122346@allevents.lt
DTSTAMP:20260421T105031Z
DTSTART:20260616T180000
DTEND:20260616T190000
SUMMARY:Kompozitorės Snieguolės Dikčiūtės audiovizualinės muzikos vakaras | Retrospektyva - AllEvents.lt
DESCRIPTION:https://allevents.lt/koncertai/vilnius/muzikos-magijos-klubas/122346-koncertas-kompozitores-snieguoles-dikciutes-audiovizualines-muzikos-vakaras-retrospektyva-vilnius-2026-bilietai\n\nAntroji išskirtinė ciklo "Lietuvos kompozitorių autoriniai vakarai" viešnia - kompozitorė, audiovizualinės muzikos kūrėja Snieguolė Dikčiūtė. Vakaro dėmesio centre - ryškiausi kompozitorės audiovizualiniai kūriniai, renginį praturtins ir gyvo atlikimo segmentai!Muzikos magijos klube vyks kompozitorės, Vyriausybės kultūros ir meno premijos laureatės Snieguolės Dikčiūtės jubiliejinis audiovizualinės muzikos retrospektyvos vakaras!Snieguolės Dikčiūtės kūryboje konstruktyvusis pradas dera su vaizdingų metaforų kalba. Jos kūriniams būdingos netradicinės instrumentų sudėtys, elektroninių ir akustinių instrumentų samplaika bei aktorių vaidybos įtraukimas į bendrą kūrinio visumą. Kompozitorė yra bendradarbiavusi su dailininkais, teatralais, videomenininkais, džiazo muzikantais, o pastaruoju metu daug dirba kaip menininkė-tyrėja socialiai įtraukaus meno lauke.Šio vakaro dėmesio centre – ryškiausi kompozitorės audiovizualiniai kūriniai, sukurti bendradarbiaujant su vaizdo režisieriumi Gintaru Šepučiu. Dalį kūrinių praturtins ir gyvo atlikimo segmentai. Vakaras prasidės kūriniu „Solitude“ (1992) fleitai solo, kurį atliks Giedrius Gelgotas. Šis kūrinys buvo sukurtas bendradarbiaujant su kompozitoriumi ir fleitininku Robertu Aitkenu (Kanada, Torontas).Renginį veda muzikologė Vita Gruodytė, dalyvauja vaizdo režisierius Gintaras Šeputis ir kino režisierius Sudipto Acharyya (Indija).\n
LOCATION:Vilnius, Šv. Stepono g. 12, Muzikos magijos klubas
BEGIN:VALARM
TRIGGER:-P2D
ACTION:DISPLAY
DESCRIPTION:Go to Kompozitorės Snieguolės Dikčiūtės audiovizualinės muzikos vakaras | Retrospektyva!
END:VALARM
END:VEVENT
END:VCALENDAR
