BEGIN:VCALENDAR
VERSION:2.0
PRODID:-//AllEvents.lt//NONSGML Event//EN
BEGIN:VEVENT
UID:122347@allevents.lt
DTSTAMP:20260421T105031Z
DTSTART:20260618T200000
DTEND:20260618T210000
SUMMARY:TOS | PERONAS Kazlų Rūda - AllEvents.lt
DESCRIPTION:https://allevents.lt/koncertai/kazlu-ruda/peronas-kazlu-ruda/122347-koncertas-tos-peronas-kazlu-ruda-kazlu-ruda-2026-bilietai\n\nTOS – novatoriškas balsas iš Amsterdamo sugrįžta į Kazlų Rūdą! TOS (25 m.) – novatoriškas atlikėjas iš Amsterdamo, kuriantis eksperimentinį R&B, neo-soul ir hiphopo mišinį, atspindintį jo gilų ryšį su muzika kaip gydymo ir saviraiškos forma. Jį išskiria gebėjimas pačiam rašyti, prodiusuoti ir atlikti savo autentišką garsą. TOS dirba studijoje kurdamas ar bendradarbiaudamas su kitais menininkais, o scenoje jis visuomet pasiruošęs uždegti publiką ir palikti ją kupiną įspūdžių.TOS ir grupė Lietuvoje jau penktą kartą! Per dvejus metus jie apkeliavo daugiau nei 10 Lietuvos miestų, o po SOLDOUT koncerto Perone Kazlų Rūdoje 2025 metų lapkritį buvo aišku, kad reikės šį SOUL FUNK vakarėlį pakartoti! Pakartosime, tik šį kartą dar energingiau ir karščiau - birželio 18! Nusiteikite šokiams..BiografijaMuzikos pasaulyje TOS pradėjo dar būdamas penkerių – nuo mažens lavino balsą, paversdamas jį tiek instrumentu, tiek pasakotoju. Paauglystėje dainų rašymas tapo jo kalba – pirmasis žvilgsnis į turtingą, ribas laužantį skambesį, kurį jis iki šiol toliau tyrinėja.Augdamas jis semėsi įkvėpimo iš tokių muzikos ikonų kaip Erykah Badu, D’Angelo, Marvin Gaye, Stevie Wonder, Beyoncé ir Frank Ocean.Jo karjera prasidėjo 2017 m. su soul-funk grupe ParHasard, su kuria išleido daugybę kūrinių – tarp jų ir hitą Help Yourself, – bei koncertavo tokiose scenose kaip Sziget '19 ir Eurosonic '23.2022 m. TOS pristatė savo pirmąjį solo singlą Run Away, o 2024 m. išleido visiškai paties sukurtą debiutinį albumą PISCES TALES. Nepriklausomai išleistas albumas pažymėjo tikrą jo solinės karjeros pradžią – ją TOS atgaivino scenoje su turu po Lietuvą ir įspūdingu albumo pristatymo koncertu legendinėje Paradiso salėje Amsterdame.TOS taip pat pasirodė vienoje scenoje su legendine Candy Dulfer, grojusia kartu su pačiu Prince, o 2023 m. Joss Stone įvertino jo talentą ir pakvietė TOS atidaryti jos koncertus Nyderlanduose pasaulinio turo metu.TOS ir gyvos grupės pasirodymas yra išskirtinis dinamiškumu, nuo subtilių kvapą užkniaužiančių momentų lydinčiu TOS puikaus sugebėjimo bendrauti su publika iki sprogstamos energijos užtaiso su TOS įspūdingų vokalinių įgūdžių demonstravimu.Kartu su TOS scenoje aukšto lygio profesionali tarptautinė grupė: gitaristas iš Vokietijos Johnny Biner, bosistas iš Italijos Richard Nacinelli bei Lietuvoje ir Nyderlanduose gerai žinomas būgnininkas Kasparas Petkus.Pirmieji bilietai pigiau! \n
LOCATION:Kazlų Rūda, V. Borisevičiaus gatvė, PERONAS. Kazlų Rūda
BEGIN:VALARM
TRIGGER:-P2D
ACTION:DISPLAY
DESCRIPTION:Go to TOS | PERONAS Kazlų Rūda!
END:VALARM
END:VEVENT
END:VCALENDAR
