BEGIN:VCALENDAR
VERSION:2.0
PRODID:-//AllEvents.lt//NONSGML Event//EN
BEGIN:VEVENT
UID:122350@allevents.lt
DTSTAMP:20260421T105037Z
DTSTART:20260622T090000
DTEND:20260622T100000
SUMMARY:Kūrybiškumo stovykla 8–10 m. vaikams MO muziejuje - AllEvents.lt
DESCRIPTION:https://allevents.lt/kiti/vilnius/mo-muziejus/122350-kurybiskumo-stovykla-8-10-m-vaikams-mo-muziejuje-vilnius-2026-bilietai\n\nMažuosius muziejaus draugus kviečiame vasaroti MO vaikų vasaros stovyklose! Kūrybiškumo stovykla MO muziejuje 8–10 metų vaikams vyks birželio 8–12 d. ir birželio 22–26 d. Stovyklų vadovai „Keistuolių teatro“ ir „Atviro rato“ aktoriai Marija Korenkaitė ir Eimantas Bareikis kartu su vaikais tyrinės ir išbandys įvairiausias meno ir kūrybos formas nuo koliažų iki repo, ners į magišką mandalų spalvų pasaulį, leisis į fotomedžioklę, kels pikniką mieste, žais 1000 bei 1 žaidimą ir, žinoma, surengs nepakartojamą festivalį „Einam 2026!”. Bus erdvės komandinėms ir individualioms užduotims, šėlsmui parke ir atsipalaidavimui. O svarbiausia – naujoms draugystėms ir nevaržomai kūrybai.Užteks sėdėti namuose – pasiimk su savimi smalsumą ir junkis į kūrybiškumo stovyklos „EINAM“ komandą! ?Kaina ir praktinė informacijaStovyklos amžiaus grupė: 8–10 m. amžiaus vaikaiDalyvių skaičius – 20 vaikų.Išankstinė stovyklos kaina (iki gegužės 22 d.) – 250 EurStovyklos kaina (nuo gegužės 23 d.) vaikui – 290 EurMO muziejaus metinę narystę turintiems (MOdernistams) taikoma nuolaida – 260 EurVaikų maitinimą organizuos MO bistro, į kainą įskaičiuoti priešpiečiai, pietūs ir pavakariai.Daugiau informacijos: mo.ltĮsigyjant stovyklos bilietą, yra būtina nurodyti savo el. pašto adresą  ir telefono numerį. Pirkimo metu nurodytu el. paštu jūs gausite ir visą papildomą informaciją apie stovyklą.  Prašysime iš anksto pranešti apie alergijas ar kitus vaiko ypatumus. \n
LOCATION:Vilnius, Pylimo gatvė 17, MO muziejus
BEGIN:VALARM
TRIGGER:-P2D
ACTION:DISPLAY
DESCRIPTION:Go to Kūrybiškumo stovykla 8–10 m. vaikams MO muziejuje!
END:VALARM
END:VEVENT
END:VCALENDAR
