BEGIN:VCALENDAR
VERSION:2.0
PRODID:-//AllEvents.lt//NONSGML Event//EN
BEGIN:VEVENT
UID:122352@allevents.lt
DTSTAMP:20260421T105031Z
DTSTART:20260706T090000
DTEND:20260706T100000
SUMMARY:Istorijų pasakojimo stovykla 7–9 m. vaikams MO muziejuje - AllEvents.lt
DESCRIPTION:https://allevents.lt/kiti/vilnius/mo-muziejus/122352-istoriju-pasakojimo-stovykla-7-9-m-vaikams-mo-muziejuje-vilnius-2026-bilietai\n\nMažuosius muziejaus draugus kviečiame vasaroti MO vaikų vasaros stovyklose! Istorijų pasakojimo stovyklos MO muziejuje 7–9 metų vaikams vyks birželio 29 d. – liepos 3 d. ir liepos 6–10 d. Šiais metais MO vaikų vasaros stovyklose mažuosius stovyklautojus kviesime kurti istorijas! Kartu ieškosime, kaip galima papasakoti istoriją, pasitelkiant įvairias meno formas, žaidybiškumą ir improvizaciją. Karštą liepos savaitę praleisti vėsiose muziejaus patalpose kuriant istorijas, neabejojam, bus didelis džiaugsmas! Kaina ir praktinė informacijaStovyklos amžiaus grupė: 7–9 m. amžiaus vaikaiDalyvių skaičius – 20 vaikų.Išankstinė stovyklos kaina (iki gegužės 22 d.) – 250 EurStovyklos kaina (nuo gegužės 23 d.) vaikui – 290 EurMO muziejaus metinę narystę turintiems (MOdernistams) taikoma nuolaida – 260 EurVaikų maitinimą organizuos MO bistro, į kainą įskaičiuoti priešpiečiai, pietūs ir pavakariai.Daugiau informacijos: mo.ltĮsigyjant stovyklos bilietą, yra būtina nurodyti savo el. pašto adresą  ir telefono numerį. Pirkimo metu nurodytu el. paštu jūs gausite ir visą papildomą informaciją apie stovyklą.  Prašysime iš anksto pranešti apie alergijas ar kitus vaiko ypatumus. \n
LOCATION:Vilnius, Pylimo gatvė 17, MO muziejus
BEGIN:VALARM
TRIGGER:-P2D
ACTION:DISPLAY
DESCRIPTION:Go to Istorijų pasakojimo stovykla 7–9 m. vaikams MO muziejuje!
END:VALARM
END:VEVENT
END:VCALENDAR
