BEGIN:VCALENDAR
VERSION:2.0
PRODID:-//AllEvents.lt//NONSGML Event//EN
BEGIN:VEVENT
UID:122356@allevents.lt
DTSTAMP:20260421T110021Z
DTSTART:20260503T190000
DTEND:20260503T210000
SUMMARY:Tarptautinės sportinių šokių varžybos „Gintarinė pora“ – nemokamas motinos dienos koncertas ir varžybų finalas - AllEvents.lt
DESCRIPTION:https://allevents.lt/koncertai/kaunas/kauno-zalgirio-arena/122356-koncertas-tarptautines-sportiniu-sokiu-varzybos-gintarine-pora-nemokamas-motinos-dienos-koncertas-ir-varzybu-finalas-kaunas-2026-bilietai\nGegužės 3 d. 19 val. kviečiame į ypatingą vakaro kulminaciją –  60-ųjų tarptautinių sportinių šokių varžybų „Gintarinė pora“ finalą ir Motinos dienai skirtą koncertą.  Jūsų lauks išskirtinė programa: sportinių šokių klubo „Sukūrys“ šokėjų ir trenerių Linos bei Donato Vėželių atliekamas legendinis Jūratės ir Česlovo Norvaišų šokis „Paukščiai“, Linas Adomaitis kartu su KTU akademiniu choru „Jaunystė“ ir Kauno Aleksandro Kačanausko muzikos mokyklos vokalinėmis grupėmis „Dangi“ ir „Dangiukai“, o finalų metu kūrinius dovanos Gabija Li kartu su gyvo garso grupe. Tai vakaras, kuriame susilies elegancija, muzika, šokis ir gražiausios emocijos – šventė, skirta visoms mamoms ir kiekvienam, pasiilgusiam įkvepiančių akimirkų.
LOCATION:Kaunas, Karaliaus Mindaugo pr. 50, Kauno Žalgirio arena
BEGIN:VALARM
TRIGGER:-P2D
ACTION:DISPLAY
DESCRIPTION:Go to Tarptautinės sportinių šokių varžybos „Gintarinė pora“ – nemokamas motinos dienos koncertas ir varžybų finalas!
END:VALARM
END:VEVENT
END:VCALENDAR
