BEGIN:VCALENDAR
VERSION:2.0
PRODID:-//AllEvents.lt//NONSGML Event//EN
BEGIN:VEVENT
UID:122360@allevents.lt
DTSTAMP:20260421T105037Z
DTSTART:20260509T180000
DTEND:20260509T190000
SUMMARY:KONCERTAS „MILDA LIETUVA“ - AllEvents.lt
DESCRIPTION:https://allevents.lt/koncertai/kauno-raj/zapyskio-paminkline-sv-jono-krikstytojo-baznycia/122360-koncertas-koncertas-milda-lietuva-kauno-raj-2026-bilietai\nDainininkė, kūrėja, balso menininkė Milda Arčikauskaitė, tyrinėjanti balsą, žmogaus ryšį su savąja tauta, kultūra, gimtąja šalimi ir gimtąja kalba, gegužės 9 dieną atvyksta į Zapyškio bažnyčią pristatyti savo debiutinį albumą „MILDA LIETUVA“, skiriamą Lietuvai ir jos žmonėms, o labiausiai – močiutei.Programą sudaro visiems labai gerai pažįstamos lietuviškos dainos „Lietuva brangi“, „Kur giria žaliuoja“, „Tris dienas, tris naktis“, sukurtos arba pritaikytos chorui kompozitorių Juozo Naujalio, Juozo Gudavičiaus ir Juozo Tallat-Kelpšos. Kai kurios jų yra harmonizuotos M. K. Čiurlionio, pvz., „Beauštanti aušrelė“, „Bėkit bareliai“, „Nei vėjai pučia“, „Aš padainuosiu dainų dainelę“.Milda pristatys savas šių dainų interpretacijas, tarsi norėdama atgaivinti tūkstančius sykių girdėtus, Lietuvai brangius kūrinius. Jų originalumas, savitas pajautimas gimė ir dėliojosi per gyvenimą dėl įvairių patirčių… drauge dainuojant su močiute, studijuojant akademinę ir džiazo muziką, išbandant grigališkąjį choralą ir indišką ragą bei dhrupad, ir tyrinėjant savo balsą, vedant balso užsiėmimus mokiniams, „stebint“ ir mėgdžiojant teatro aktorių balsus. Visąlaik norisi sudainuoti šiek tiek kitaip, nei įprasta.Taip pat idėjos išskirtinumas pasižymi tuo, jog Milda visas chorines partijas atlieka viena. Tokį stilių ir muzikos atlikimo būdą galima apibūdinti kaip solo chorus arba chorus solo, dainos solistei su fonograma, dainos keliems Mildos balsams. Čia nenaudojama nei elektronika, nei jokie instrumentai. Balsas – natūralus žmogaus prigimties instrumentas. Apsupdami iš visų pusių, balsai kuria skambančią, pulsuojančią erdvę, kurioje kviečiame pabūti gegužės 9 dieną, 18 val. Zapyškio bažnyčioje.    
LOCATION:Kauno raj., Zapyškis, Muziejaus g. 1, Zapyškio paminklinė Šv. Jono Krikštytojo bažnyčia
BEGIN:VALARM
TRIGGER:-P2D
ACTION:DISPLAY
DESCRIPTION:Go to KONCERTAS „MILDA LIETUVA“!
END:VALARM
END:VEVENT
END:VCALENDAR
