BEGIN:VCALENDAR
VERSION:2.0
PRODID:-//AllEvents.lt//NONSGML Event//EN
BEGIN:VEVENT
UID:122362@allevents.lt
DTSTAMP:20260421T105042Z
DTSTART:20260510T140000
DTEND:20260510T145000
SUMMARY:Premjera! BAUBAS || Lėlių ir objektų spektaklis vaikams - AllEvents.lt
DESCRIPTION:https://allevents.lt/teatras/vilnius/vilniaus-teatras-lele/122362-teatras-premjera-baubas-leliu-ir-objektu-spektaklis-vaikams-vilnius-2026-bilietai\nAr pamenate animacinį kino režisieriaus Ilja Bereznicko filmuką „Baubas“?Ne viena karta užaugo žiūrėdama šį filmuką ir svajodama, kaip gera būtų susidraugauti su pačiu Baubu – žaviu, linksmu, išradingu ir šiek tiek pašėlusiu veikėju. Kai audra išblaško miegą, vienintelis būdas vėl užmigti – tėvų sekama pasaka. O kas, jei tėvai neturi laiko? Tada kreipiesi į senelį.Istorija kviečia mažuosius ir jų tėvelius susidraugauti su savo baimėmis ir primena, kad būtent kūryba gali tapti tuo, kas mus suartina.
LOCATION:Vilnius, Arklių g. 5, Vilniaus teatras „Lėlė“
BEGIN:VALARM
TRIGGER:-P2D
ACTION:DISPLAY
DESCRIPTION:Go to Premjera! BAUBAS || Lėlių ir objektų spektaklis vaikams!
END:VALARM
END:VEVENT
END:VCALENDAR
