BEGIN:VCALENDAR
VERSION:2.0
PRODID:-//AllEvents.lt//NONSGML Event//EN
BEGIN:VEVENT
UID:122376@allevents.lt
DTSTAMP:20260421T104919Z
DTSTART:20261016T183000
DTEND:20261016T201500
SUMMARY:RESURRECTIO - AllEvents.lt
DESCRIPTION:https://allevents.lt/koncertai/kaunas/kauno-valstybine-filharmonija/122376-koncertas-resurrectio-kaunas-2026-bilietai\nKoncertas,  skirtas Fausto Latėno 70-osioms gimimo metinėms ir Zitos Bružaitės 60-mečiui  paminėtiAtlikėjai:KAUNO  MIESTO SIMFONINIS ORKESTRASVyr.  dirigentas Constantine Orbelian (JAV), vadovas Algimantas Treikauskas KAUNO  VALSTYBINIS CHORASMeno  vadovas ir vyr. dirigentas Robertas ŠervenikasSolistai:GUNTA  GELGOTĖ (sopranas)KAROLIS  KAŠIUBA (tenoras)MINDAUGAS  BAČKUS (violončelė)Dirigentas  ROBERTAS ŠERVENIKASProgramoje:I  d.FAUSTAS  LATĖNAS„Šviesiam  atminimui“ simfoniniam orkestrui„Agnus  Dei“ chorui ir simfoniniam orkestruiSonata  violončelei solo ir simfoniniam orkestrui„Bolero“  kameriniam orkestruiII  d.ZITA  BRUŽAITĖ – „Resurrectio“ („Prisikėlimas“) sopranui, tenorui, chorui ir  orkestrui (pasaulinė premjera)                          Šiemet vienas žinomiausių Lietuvos kompozitorių Faustas  Latėnas būtų šventęs garbingą septyniasdešimtmečio jubiliejų. Deja, prieš  šešerius metus jo gyvenimo styga nutrūko, taip ir neišgirdus paskutinio sukurto  kūrinio – „Bolero“ – premjeros.     Energingoji ir lyriškoji Zita Bružaitė metus skaičiuoja lyg  žvelgdama pro pirštus ir savo šešiasdešimtmetį pasitinka net nepažvelgdama į  pasą – nuotaikingai ir pakiliai žvelgdama į perspektyvas.     F. Latėno  kūrybą muzikologė Daiva Parulskienė apibūdina taip: „Jis priklauso itin ryškiai  lietuvių kompozitorių kartai, kažkada įvardytai kaip „naujieji romantikai“.  Visi jie žvelgė į supantį pasaulį su tam tikru nepasitikėjimu ir pesimizmu,  visi augo ir brendo mažuose draugų būreliuose, kuriuos siejo bendra  pasaulėjauta, dėmesys mažiems, bet svarbiems gyvenimo dalykams. Šalia  bendraamžių Algirdo Martinaičio ar Vidmanto Bartulio, Faustas Latėnas buvo  tikras enfant terrible (pranc. nepaklusnus vaikas), iš teatro terpės į akademinę muziką perkėlęs  hipertrofuotą banalybę, ironiją ir muzikinį chuliganizmą: „Teatras man visuomet  atrodė kaip gaivinantis skersvėjis mano akademinėje kūryboje. Tarsi salelė,  kurioje leistina realizuoti radikaliausias, banaliausias ir šmaikščiausias  mintis, nes į teatro muziką visuomet būdavo žvelgiama atlaidžiau.“ Šio vakaro  koncerte skambės stambių formų F. Latėno instrumentiniai kūriniai ir  kompozitoriaus neišgirstasis „Bolero“.     Premjerinis  septynių dalių Z. Bružaitės kūrinys sopranui, tenorui, chorui ir simfoniniam  orkestrui gimė įkvėptas freskų, vaizduojančių Kristaus prisikėlimą. Įspūdis,  emocinis poveikis, apmąstymai ir vizualinė atmintis verčiama pasakojimu  garsais, perteikiant tradicinę religinę ikonografiją muzikos kalba, kurioje  skamba tiek sodrūs ir sunkūs garsiniai žemėlapiai, asocijuojantys su išbandymu,  sunkumų įveikimu, tiek giedresnės vilties ir atsinaujinimo tonacijos. Kūrinys  jungia praeities simboliką su šiuolaikinio žmogaus patirtimi: prisikėlimo  motyvas tampa ne vien religinės tiesos atspindžiu, bet ir simboliu naujų  pradžių, vidinio atgimimo bei gyvenimo tvirtumo kasdienybėje.                          Prieš  koncertą vyks pokalbis–susitikimas su kompozitore Z. Bružaite, kuri pristatys  savo naująjį kūrinį ir F. Latėno kūrybą. Susitikimas vyks 17.50 val. Kauno  valstybinės filharmonijos orkestrinėje (5 aukštas), trukmė – 30 min. Įėjimas į susitikimą  tik su koncerto bilietais. Vietų skaičius ribotas, būtina registracija  užpildant registracijos formą.
LOCATION:Kaunas, E. Ožeškienės g. 12, Kauno valstybinė filharmonija
BEGIN:VALARM
TRIGGER:-P2D
ACTION:DISPLAY
DESCRIPTION:Go to RESURRECTIO!
END:VALARM
END:VEVENT
END:VCALENDAR
