BEGIN:VCALENDAR
VERSION:2.0
PRODID:-//AllEvents.lt//NONSGML Event//EN
BEGIN:VEVENT
UID:122377@allevents.lt
DTSTAMP:20260421T105031Z
DTSTART:20261023T183000
DTEND:20261023T193000
SUMMARY:W. A. MOZARTUI – 270 - AllEvents.lt
DESCRIPTION:https://allevents.lt/koncertai/kaunas/kauno-valstybine-filharmonija/122377-koncertas-w-a-mozartui-270-kaunas-2026-bilietai\nAtlikėjai:KAUNO MIESTO SIMFONINIS ORKESTRASVyr. dirigentas Constantine Orbelian  (JAV), vadovas Algimantas TreikauskasKAUNO VALSTYBINIS CHORASMeno vadovas ir vyr. dirigentas  Robertas ŠervenikasSolistai:GINTARĖ RAMANAUSKAITĖ (sopranas)VILIJA MIKŠTAITĖ (mecosopranas)MYKOLAS STANEVIČIUS (tenoras)DEIMANTAS BRAUKYLA (bosas)Dirigentas ROBERTAS ŠERVENIKASProgramoje:WOLFGANG AMADEUS MOZART – „Requiem“  d-moll                          Minint  270-ąsias Wolfgango Amadeus Mozarto gimimo metines, Kauno valstybinėje  filharmonijoje nuskambės nemarus jo kūrinys „Requiem“. Šis šedevras ypatingas  ne tik savo skambesio jėga, gilumu ir jautrumu, bet ir paslaptinga sukūrimo  istorija, kurią nutraukė ankstyva kompozitoriaus mirtis.     „Requiem“,  gedulingos mišios už mirusiuosius, viena žymiausių W. A. Mozarto kompozicijų, kompozitoriaus  kurta 1791 m., bet taip ir neužbaigta. Tai buvo paskutinis kompozitoriaus  kūrinys, skirtas 4 solistams, mišriam chorui ir orkestrui, po W. A. Mozarto  mirties užbaigtas jo mokinio Franzo Xavero Süßmayro.     W. A.  Mozartas kūrė sąlyginai nedaug bažnytinės muzikos. Pasak legendos, pas jį  apsilankė juodai apsirengęs nepažįstamasis ir užsakė kompozitoriui parašyti  gedulingas mišias. Apie šį apsilankymą porą mėnesių prieš mirtį kompozitorius  rašė laiške: „Negaliu pamiršti šio nepažįstamojo, jis stovi man akyse –  prašantis, persekiojantis, reikalaujantis. Aš tęsiu, nes darbas mane kamuoja  mažiau negu poilsis. Nuojauta kužda, kad mano valanda atėjo; einu į mirtį;  sutiksiu ją anksčiau nei būčiau galėjęs pasidžiaugti savo talentu. Gyvenimas  toks gražus, jis buvo toks daug žadantis, tačiau kas skirta, to nepakeisi.  Niekas nežino, kiek dienų liko, reikia atsiduoti likimui. Baigiu, nes manęs  laukia gedulinga giesmė, kurią aš privalau užbaigti.“     „Requiem“  sudaro 12 dalių. Ypač įsimintinos dalys „Dies irae“ („Dieną rūsčią“) bei  „Lacrimosa“ („Sielvartingoji“). „Dies irae“ – ypač dramatiška, aktyvi,  vaizduojanti mirties siaubą bei žmonių maldavimus pasigailėti. „Lacrimosa“ – ramybės  oazė, pasižyminti subtilia lyrika, sukauptomis dejonėmis, skaudžiais atodūsiais  tarp žodžių.
LOCATION:Kaunas, E. Ožeškienės g. 12, Kauno valstybinė filharmonija
BEGIN:VALARM
TRIGGER:-P2D
ACTION:DISPLAY
DESCRIPTION:Go to W. A. MOZARTUI – 270!
END:VALARM
END:VEVENT
END:VCALENDAR
