BEGIN:VCALENDAR
VERSION:2.0
PRODID:-//AllEvents.lt//NONSGML Event//EN
BEGIN:VEVENT
UID:122378@allevents.lt
DTSTAMP:20260421T105036Z
DTSTART:20261119T190000
DTEND:20261119T204500
SUMMARY:PASAULINIO GARSO KONTRATENORAS MAAYAN LICHT KAUNE - AllEvents.lt
DESCRIPTION:https://allevents.lt/koncertai/kaunas/kauno-valstybine-filharmonija/122378-koncertas-pasaulinio-garso-kontratenoras-maayan-licht-kaune-kaunas-2026-bilietai\nAtlikėjai:LIETUVOS  KAMERINIS ORKESTRASMeno vadovas ir  dirigentas Sergej KrylovSolistas MAAYAN  LICHT (kontratenoras, Izraelis)Dirigentas  MODESTAS PITRĖNASProgramoje:Georg Friedrich  Händel, Antonio Vivaldi, Geminiano Giacomelli, Georges Bizet operų arijos, G.  F. Händel „Concerto grosso“, A. Vivaldi, Joseph Haydn simfonijos                          Neabejotinai tikra sensacija Kauno  filharmonijos scenoje – reto balso ir išskirtinės charizmos atlikėjas iš  Izraelio Maayanas Lichtas!    2025 m. „Oper! Awards“ apdovanojimuose  pelnęs „Geriausio naujoko“ prizą, M. LICHTAS šiandien pripažįstamas vienu  įdomiausių operos balsų ir vadinamas „šiuolaikiniu Farinelli“.  Jis garsėja tuo, kad atlieka vaidmenis, kurių beveik niekas kitas negali  sudainuoti ir derina vokalinį virtuoziškumą su emociniu gilumu. Už pasirodymus  operose ir koncertuose M. Lichtas pelnė kritikų ir publikos įvertinimą. Be  sparčiai kylančios dainininko karjeros, M. Lichtas tapo socialinių tinklų  fenomenu, pristatančiu klasikinę muziką ir operą naujai auditorijai visame  pasaulyje, turinčiu šimtus tūkstančių sekėjų „Instagram“, „TikTok“ ir „Facebook“ bei milijonus peržiūrų.    Šio vakaro koncerte dainininkas  pasirodys su Lietuvos kameriniu  orkestru  ir maestro Modestu Pitrėnu. Vakaro metu skambės Baroko, Klasicizmo ir Romantizmo epochų  muzika bei kūriniai, atskleidžiantys unikalaus ir reto M. Lichto balso  galimybes.                M. Licht foto Nelya Agdeeva
LOCATION:Kaunas, E. Ožeškienės g. 12, Kauno valstybinė filharmonija
BEGIN:VALARM
TRIGGER:-P2D
ACTION:DISPLAY
DESCRIPTION:Go to PASAULINIO GARSO KONTRATENORAS MAAYAN LICHT KAUNE!
END:VALARM
END:VEVENT
END:VCALENDAR
