BEGIN:VCALENDAR
VERSION:2.0
PRODID:-//AllEvents.lt//NONSGML Event//EN
BEGIN:VEVENT
UID:122379@allevents.lt
DTSTAMP:20260421T104919Z
DTSTART:20261211T183000
DTEND:20261211T201500
SUMMARY:KALĖDINĖ FANTAZIJA - AllEvents.lt
DESCRIPTION:https://allevents.lt/koncertai/kaunas/kauno-valstybine-filharmonija/122379-koncertas-kaledine-fantazija-kaunas-2026-bilietai\nAtlikėjai:KAUNO MIESTO SIMFONINIS ORKESTRASVyr. dirigentas Constantine Orbelian (JAV), vadovas  Algimantas TreikauskasKAUNO VALSTYBINIS CHORASMeno vadovas ir vyr. dirigentas Robertas ŠervenikasKAUNO BERNIUKŲ IR JAUNUOLIŲ CHORAS „VARPELIS“Meno vadovas Christian FrattimaSolistai:GINTARĖ RAMANAUSKAITĖ (sopranas)VILIJA MIKŠTAITĖ (mecosopranas)JURGITA ŠALČIŪTĖ (mecosopranas)VYGANTAS BEMOVAS (tenoras)ILJA PLOTNIKOV (baritonas)GIEDRIUS PRUNSKUS (baritonas)Dirigentas ROBERTAS ŠERVENIKASProgramoje:I d.ARTHUR HONEGGER – „Kalėdinė kantata“ baritonui, vaikų  chorui, mišriam chorui ir orkestruiRALPH VAUGHAN WILLIAMS – „Kalėdinių giesmių fantazija“  baritonui, chorui ir orkestruiII d.CAMILLE SAINT-SAËNS – „Kalėdinė oratorija“ sopranui,  dviem mecosopranams, tenorui, baritonui, mišriam chorui, arfai, vargonams ir  kameriniam orkestrui                          Kauno valstybinė  filharmonija visus, nekantriai laukiančius gražiausiųjų metų švenčių, kviečia  pasiklausyti net trijų stambios formos kūrinių, kuriančių šventišką nuotaiką ir  skatinančių pasitikti šv. Kalėdas tyra širdimi bei pakiliu dvasingumu.     Šveicarų kompozitoriaus Arthuro Honeggerio „Kalėdinė  kantata“ – 1953 m. sukurtas paskutinis šio kompozitoriaus kūrinys. Čia, trijose  dalyse, pasakojama biblinė šv. Kalėdų istorija. Pirmoji dalis pasakoja apie  pasaulio sumaištį prieš Mesijo atėjimą, antroji dalis – žinomų kalėdinių  giesmių melodijų, tokių kaip „Džiaugsminga tyli naktis“, „Pražydo rožė“ ar „Jis  – tas žavusis kūrdikis“ kombinacija. Trečioji dalis – iškilmingas choras „Šlovinkite  Viešpatį“, pereinantis į orkestrinę pabaigą, atkartojančią pirmos dalies teminę  medžiagą. Kantatoje tekstai skamba lotynų, vokiečių ir prancūzų kalbomis.     Lietuvoje iki šiol neskambėjusi anglų kompozitoriaus  Ralpho Vaughan Williamso „Kalėdinių giesmių fantazija“ – 1912 m. sukurtas  vienos dalies kūrinys, sudarytas iš anglų tautinių kalėdinių giesmių „Tiesa,  atsiųsta iš viršaus“, „Ateikite, visi mielieji ponai“ ir „Kalėdų naktį visi  krikščionys gieda“, kurias keletą metų prieš gimstant Fantazijai kompozitorius  ir jo draugas Cecilas Sharpas surinko ir užrašė Pietų Anglijoje. Giesmių  motyvai persipina su trumpomis orkestrinėmis citatomis iš kitų kalėdinių dainų,  tokių kaip „Pirmoji Kalėdų giesmė“.     Jau bene 150 metų populiarumo neprarandanti prancūzų  kompozitoriaus Camille‘o Saint-Saënso „Kalėdų oratorija“ – tai 1858 m. pasaulį  išvydęs kūrinys, sukurtas 23-mečio autoriaus ir dedikuotas jo kompozicijos  mokinei Clémencei de Grandval. Būdamas tikru kataliku C. Saint-Saënsas  dešimties dalių oratorijai parinko tekstus iš Biblijos, išverstus į lotynų  kalbą pagal Vulgatos (šv. Jeronimo 1450 m. atlikto Biblijos vertimo) versiją. Kai  kurie iš tekstų priklauso šv. Kalėdų šventės „Missa in nocte“ (pusiaunakčio mišių)  propriumui. Po Evangelijoje pagal Luką pateikiamo pranešimo apie Kristaus  gimimą seka psalmių tekstai, eilutės iš pranašų knygų ir Evangelijos pagal Joną.  Greta keleto išimčių kompozicijoje vyrauja lyriškai kontempliatyvi nuotaika,  nes autorius daugiau  dėmesio skyrė religiniams aspektams ir jų apmąstymams nei žmogiškajai dramai Biblijos  tekstuose. Skaidri ir nuoširdi kūrinio muzika niekada nepalieka abejingų ir iš  koncertų salės klausytoją išlydi nuskaidrinta širdimi.
LOCATION:Kaunas, E. Ožeškienės g. 12, Kauno valstybinė filharmonija
BEGIN:VALARM
TRIGGER:-P2D
ACTION:DISPLAY
DESCRIPTION:Go to KALĖDINĖ FANTAZIJA!
END:VALARM
END:VEVENT
END:VCALENDAR
