BEGIN:VCALENDAR
VERSION:2.0
PRODID:-//AllEvents.lt//NONSGML Event//EN
BEGIN:VEVENT
UID:123617@allevents.lt
DTSTAMP:20260425T151159Z
DTSTART:20260502T200000
DTEND:20260502T210000
SUMMARY:Grupė Pakartok | RUBIX - AllEvents.lt
DESCRIPTION:https://allevents.lt/koncertai/vasario-16-osios-g-48-siauliai/rubix-klubas/123617-koncertas-grupe-pakartok-rubix-vasario-16-osios-g-48-siauliai-2026-bilietai\n\n\n\n\n\nGYVOS MUZIKOS VAKARAS RUBIX'E \n\n \n\nGegužės 2 d. RUBIX Šiauliai kviečia į ypatingą gyvos muzikos vakarą — puiki Motinos dienos dovaną!\n\n \n\n\n\nLaukia vakaras, kupinas energijos, emocijų ir dainų, kurias norėsi dainuoti kartu. Nuo lietuviškų hitų iki užsienio topų — muzika, kuri sujudins visą šokių aikštelę. Ateik su mama, švęsk pavasario pradžią arba tiesiog mėgaukis puikiu vakaru mieste — tai renginys, kurio nenorėsite praleisti.\n\n \n\n\n\nScenoje:\n\n \n\nGrupė „PAKARTOK" — Klaipėdos grupė, greitai užkariavusi lietuvišką radiją. Jų originalios dainos „Viskas gerai" ir „Mano pasaulis tai tu" surinko šimtus tūkstančių peržiūrų YouTube! Be to - „Pakartok" vardu sako viską: jie atlieka geriausius gerai žinomų grupių koverius, kurie privers visą salę dainuoti ir šokti nuo pirmos iki paskutinės dainos.\n\n\n\n \n\nGyva muzika\n\n \n\nNepakartojama atmosfera\n\n \n\nPilna šokių aikštelė\n\n \n\n\n\nGegužės 2 d.\n\n \n\nRUBIX Šiauliai\n\n \n\nRezervacijos: +370 69199223\n\n \n\nNe tik girdėk — būk čia!\n\n\n\n\n \n
LOCATION:Vasario 16-osios g. 48, Šiauliai, , Rubix klubas
BEGIN:VALARM
TRIGGER:-P2D
ACTION:DISPLAY
DESCRIPTION:Go to Grupė Pakartok | RUBIX!
END:VALARM
END:VEVENT
END:VCALENDAR
